BEGIN:VCALENDAR
VERSION:2.0
PRODID:-//Spargelhof Klaistow - ECPv6.15.11//NONSGML v1.0//EN
CALSCALE:GREGORIAN
METHOD:PUBLISH
X-ORIGINAL-URL:https://www.spargelhof-klaistow.de
X-WR-CALDESC:Veranstaltungen für Spargelhof Klaistow
REFRESH-INTERVAL;VALUE=DURATION:PT1H
X-Robots-Tag:noindex
X-PUBLISHED-TTL:PT1H
BEGIN:VTIMEZONE
TZID:Europe/Vienna
BEGIN:DAYLIGHT
TZOFFSETFROM:+0100
TZOFFSETTO:+0200
TZNAME:CEST
DTSTART:20240331T010000
END:DAYLIGHT
BEGIN:STANDARD
TZOFFSETFROM:+0200
TZOFFSETTO:+0100
TZNAME:CET
DTSTART:20241027T010000
END:STANDARD
BEGIN:DAYLIGHT
TZOFFSETFROM:+0100
TZOFFSETTO:+0200
TZNAME:CEST
DTSTART:20250330T010000
END:DAYLIGHT
BEGIN:STANDARD
TZOFFSETFROM:+0200
TZOFFSETTO:+0100
TZNAME:CET
DTSTART:20251026T010000
END:STANDARD
BEGIN:DAYLIGHT
TZOFFSETFROM:+0100
TZOFFSETTO:+0200
TZNAME:CEST
DTSTART:20260329T010000
END:DAYLIGHT
BEGIN:STANDARD
TZOFFSETFROM:+0200
TZOFFSETTO:+0100
TZNAME:CET
DTSTART:20261025T010000
END:STANDARD
END:VTIMEZONE
BEGIN:VEVENT
DTSTART;TZID=Europe/Vienna:20250301T200000
DTEND;TZID=Europe/Vienna:20250301T230000
DTSTAMP:20260421T134831
CREATED:20241028T141454Z
LAST-MODIFIED:20250131T083049Z
UID:10003703-1740859200-1740870000@www.spargelhof-klaistow.de
SUMMARY:2. Prunksitzung
DESCRIPTION:2. Prunksitzung\nDer GCC veranstaltet seine Karnevals Sitzungen auf unserem Hof und lädt hiermit ein: \nJeck und Schwof mit dem GCC auf dem Klaistower Spargelhof! Dieses Jahr unter dem Motto: Zum 70. Des GCC laden wir ein\, bei unserer Gala auf dem roten Teppich dabei zu sein! \nDie 2. Prunksitzung ist der zweite festlich und unterhaltsame Höhepunkt der Karnevalssaison: ein Kostümball! Das Programm geht von 20:00 Uhr bis ca. 22:30 Uhr. Nach dem prunkvollen Einmarsch des Vereins\, der Begrüßung durch die Präsidentin und Ansprache der Prinzenpaare wird im festlichen Ambiente und unter dem Glanz funkelnder Kostüme gefeiert. Euch erwarten die Garde- und Schautänze der Kirschblüten\, der Früchtchen und der Prinzengarde\, die mit ihren Tänzen auf der diesjährigen Landesmeisterschaft wieder zahlreiche Titel holen konnten. Unser Tanzmariechen zeigt euch mit Stolz ihr Können. \nStimmungsmusik und Oldies gibt es von unserer Vereinsband. Unser Gesangsduo verschafft sich mit Wort und Gesang Gehör\, die Prinzenomis überraschen euch mit ihrer Darbietung. Die PCG (Präsident crazy Garde) gibt Sketche\, Wortspiele und Tanzeinlagen zum Besten und das GCC Männerballett verzaubert dieses Jahr mit den Cherry Ladies an ihrer Seite. \nDas gemütliche Beisammensein für den Rest des Abends widmen wir der Brauchtumspflege und lassen uns\, beschwingt durch Musik\, schunkelnd und tänzerisch in den nächsten Tag überleiten. \nÖffnungszeiten\nWann? \n01.03.2025 \nEinlass: 19:00 Uhr \nBeginn: 20:00 Uhr \nTickets\n\n	\n\n		\n		\n		\n\n		\n\n\n		\n\n\n\n	Tickets\n\n		\n	\n	\n		Die unten stehende Nummer beinhaltet Tickets für diese Veranstaltung aus dem Warenkorb. Durch einen Klick auf "Tickets kaufen" können vorhandene Teilnehmerinformationen bearbeitet sowie die Ticketsanzahl verändert werden.	\n\n\n		\n		\n		\n	\n		Tickets sind nicht länger verfügbar	\n\n\n		\n	\n	\n\n	\n	\n\n	\n	\n\n\n\n			\n\n	\n\n\n\nTeilen\n		\n					\n						\n					\n			\n						\n				\n							\n								\n						\n															\n															\n																				\n					\n									\n						\n															\n															\n																				\n					\n									\n						\n															\n															\n																				\n					\n									\n						\n															\n															\n																				\n					\n									\n						\n															\n															\n																				\n					\n						\n						\n				\n					\n		\n					\n		\n				\n		\nFeiere Karneval mit uns!\nAnsicht laden. \n\n\n\n \n \n\n\n\nHeute\n\n\nHeute\nHeute\n\n–\n\n23.02.2025\n23. Februar 2025\n \n\nDatum wählen. \n \n\n\nFebruar 2025 \n\n\n21. Februar 2025 – 21. Februar 2025\nHerrensitzung\nHerrensitzung Der GCC veranstaltet seine Karnevals Sitzungen auf unserem Hof und…\n\n\n\n22. Februar 2025 – 22. Februar 2025\n1. Prunksitzung\n1. Prunksitzung Der GCC veranstaltet seine Karnevals Sitzungen auf unserem Hof u…\n\n\n\n23. Februar 2025 – 23. Februar 2025\nSeniorenfasching\nSeniorenfasching Der GCC veranstaltet seine Karnevals Sitzungen auf unserem Hof …\n \n\n\nVorherige Veranstaltungen\n\nHeute \n\nNächste Veranstaltungen \n\n\n\nKalender abonnieren  \n\n\nGoogle Kalender \n\niCalendar \n\nOutlook 365 \n\nOutlook Live \n\n.ics-Datei exportieren \n\nExportiere Outlook .ics Datei \n\n\nZU ALLEN EVENTS
URL:https://www.spargelhof-klaistow.de/event/2-prunksitzung/
CATEGORIES:Karneval
ATTACH;FMTTYPE=image/webp:https://www.spargelhof-klaistow.de/wp-content/uploads/2024/10/GCC-ZweitePrunksitzung.webp
END:VEVENT
END:VCALENDAR