BEGIN:VCALENDAR
VERSION:2.0
PRODID:-//Spargelhof Klaistow - ECPv6.15.11//NONSGML v1.0//EN
CALSCALE:GREGORIAN
METHOD:PUBLISH
X-WR-CALNAME:Spargelhof Klaistow
X-ORIGINAL-URL:https://www.spargelhof-klaistow.de
X-WR-CALDESC:Veranstaltungen für Spargelhof Klaistow
REFRESH-INTERVAL;VALUE=DURATION:PT1H
X-Robots-Tag:noindex
X-PUBLISHED-TTL:PT1H
BEGIN:VTIMEZONE
TZID:Europe/Vienna
BEGIN:DAYLIGHT
TZOFFSETFROM:+0100
TZOFFSETTO:+0200
TZNAME:CEST
DTSTART:20240331T010000
END:DAYLIGHT
BEGIN:STANDARD
TZOFFSETFROM:+0200
TZOFFSETTO:+0100
TZNAME:CET
DTSTART:20241027T010000
END:STANDARD
BEGIN:DAYLIGHT
TZOFFSETFROM:+0100
TZOFFSETTO:+0200
TZNAME:CEST
DTSTART:20250330T010000
END:DAYLIGHT
BEGIN:STANDARD
TZOFFSETFROM:+0200
TZOFFSETTO:+0100
TZNAME:CET
DTSTART:20251026T010000
END:STANDARD
BEGIN:DAYLIGHT
TZOFFSETFROM:+0100
TZOFFSETTO:+0200
TZNAME:CEST
DTSTART:20260329T010000
END:DAYLIGHT
BEGIN:STANDARD
TZOFFSETFROM:+0200
TZOFFSETTO:+0100
TZNAME:CET
DTSTART:20261025T010000
END:STANDARD
END:VTIMEZONE
BEGIN:VTIMEZONE
TZID:UTC
BEGIN:STANDARD
TZOFFSETFROM:+0000
TZOFFSETTO:+0000
TZNAME:UTC
DTSTART:20240101T000000
END:STANDARD
END:VTIMEZONE
BEGIN:VEVENT
DTSTART;TZID=Europe/Vienna:20250629T080000
DTEND;TZID=Europe/Vienna:20250629T103000
DTSTAMP:20260421T110238
CREATED:20250123T140233Z
LAST-MODIFIED:20250528T082830Z
UID:10005442-1751184000-1751193000@www.spargelhof-klaistow.de
SUMMARY:Frühstücksbuffet
DESCRIPTION:Frühstücksbuffet				\n				\n					\n		\n					\n		\n				\n						\n					\n			\n						\n				\n									Richtig gut frühstücken!Ab jetzt dürfen wir euch endlich wieder unser Frühstücksbuffet anbieten!   Was gibts?Frisches vom Landfleischer Joppe\,knusprige Brötchen und Holzofenbrot aus unserer Hofbäckerei\, frisch zubereitete Eierspeisen mit krossem Schinkenspeck\, unsere Klaistower Hof-Marmeladen aus eigenen Früchten\,Müsli und Joghurt mit Früchten und ein warmes Tagessüppchen.   Dazu gibts Mineralwasser\, Tee und frischen Filterkaffee.   								\n				\n				\n				\n									\n					\n						\n									JETZT RESERVIEREN\n					\n					\n				\n								\n				\n					\n		\n				\n			\n						\n				\n					Teilen				\n				\n				\n				\n									\n					\n						\n					\n			\n						\n				\n							\n								\n						\n															\n															\n																				\n					\n									\n						\n															\n															\n																				\n					\n									\n						\n															\n															\n																				\n					\n									\n						\n															\n															\n																				\n					\n									\n						\n															\n															\n																				\n					\n						\n						\n				\n					\n		\n					\n		\n				\n		\n						\n				\n				\n				\n					Wann?				\n				\n				\n				\n									Jeden Samstag\, Sonn- und Feiertag von 8:00-10:30 Uhr in der Scheunenküche.
URL:https://www.spargelhof-klaistow.de/event/fruehstuecksbuffet/2025-06-29/
CATEGORIES:Essen-Trinken
ATTACH;FMTTYPE=image/webp:https://www.spargelhof-klaistow.de/wp-content/uploads/2024/04/WordPress_teaserKachel-1.webp
END:VEVENT
BEGIN:VEVENT
DTSTART;TZID=UTC:20250629T100000
DTEND;TZID=UTC:20250629T130000
DTSTAMP:20260421T110238
CREATED:20250505T094849Z
LAST-MODIFIED:20250505T095048Z
UID:10005728-1751191200-1751202000@www.spargelhof-klaistow.de
SUMMARY:Bauernbrunch
DESCRIPTION:Bauernbrunch				\n				\n					\n		\n					\n		\n				\n						\n					\n			\n						\n				\n									Genießt gemeinsam mit der Familie\, Freunden\, zum Geburtstag oder zu zweit in kleiner Runde einen ausgiebigen Brunch! Ihr findet auf dem Buffet alles\, was das Herz begehrt: von knusprigen Brötchen und Holzofenbrot aus unserer Hofbäckerei\, Leckerem vom Landfleischer Joppe bis hin zu unseren Klaistower Hof-Marmeladen aus eigenen Früchten und saisonalem Obst und Gemüse. Von der warmen Küche gibt‘s Auflauf oder Gratin\, Eierspeisen\, Geflügel\, Nudeln\, Ofengemüse und unseren ofenfrischen Hofbraten! Außerdem im Angebot: knackiger Salat und leckere Desserts. Im Preis eingeschlossen sind frischer Filterkaffee sowie aromatisiertes Wasser! Außerdem gibts für jeden ein Glas Sekt (oder alk. frei).    Preis:  29\,95€ pro Erwachsener 15\,95€ pro Kind 7-12 Jahre9\,95€ pro Kind 3-6 JahreKostenfrei für Kinder 0-2 Jahre 								\n				\n				\n				\n									\n					\n						\n									JETZT RESERVIEREN\n					\n					\n				\n								\n				\n					\n		\n				\n			\n						\n				\n					Teilen				\n				\n				\n				\n									\n					\n						\n					\n			\n						\n				\n							\n								\n						\n															\n															\n																				\n					\n									\n						\n															\n															\n																				\n					\n									\n						\n															\n															\n																				\n					\n									\n						\n															\n															\n																				\n					\n									\n						\n															\n															\n																				\n					\n						\n						\n				\n					\n		\n					\n		\n				\n		\n						\n				\n				\n				\n					Wann?				\n				\n				\n				\n									Ab dem 22.3. bis 13.4. und dann wieder ab 28.6. jeden Samstag + Sonntag + Feiertag von 10-13 Uhr im Hofrestaurant
URL:https://www.spargelhof-klaistow.de/event/bauernbrunch-2-2/2025-06-29/
CATEGORIES:Essen-Trinken
ATTACH;FMTTYPE=image/webp:https://www.spargelhof-klaistow.de/wp-content/uploads/2024/04/WordPress_teaserKachel-_1_-1.webp
END:VEVENT
BEGIN:VEVENT
DTSTART;TZID=Europe/Vienna:20250629T100000
DTEND;TZID=Europe/Vienna:20250629T160000
DTSTAMP:20260421T110238
CREATED:20250114T121156Z
LAST-MODIFIED:20250127T094250Z
UID:10005249-1751191200-1751212800@www.spargelhof-klaistow.de
SUMMARY:Flohmarkt 29.6.2025
DESCRIPTION:Flohmarkt\nAuf sagenhaften 2.500 m Trödelstrecke gibt es günstige Kinderkleidung\, Spielzeug und alles\, was zum Familienleben dazu gehört. Der Flohmarkt findet direkt auf unserem Parkplatz statt. Mobiliar muss selbst mitgebracht werden. \nStandplätze\nNormaler Stand\n1 Ticket entspricht jeweils 4m. Es können entsprechend 4m\, 8\, oder 12m gebucht werden. \nBitte denkt daran\, dass die Läng des gesamten Standes bei der Meteranzahl berücksichtigt werden muss\, nicht nur die eures Verkaufstisches. Geht euer Stand inkl. Kfz \, Hänger etc. über die gebuchte Meteranzahl hinaus\, berechnen wir vor Ort für jeden weiteren angefangenen Meter 8 €/m. \nPavillon-Stand (3x3m)\nÜberschreitet die Länge des Standes inkl. Pavillon\, Fahrzeugen\, Hänger etc. 5 m\, berechnen wir vor Ort für jeden weiteren angefangenen Meter 8 €/m. Der Pavillon muss selbst mitgebracht werden! \nBei nicht Buchung des Pavillon Platzes berechnen wir vor Ort 50€. Flohmarkt-Tickets können nicht zurück erstattet werden! \nDer Aufbau für die Verkaufsstände erfolgt am Flohmarkttag ab 8 Uhr. Bitte bringt euer Aufbauticket an diesem Tag mit. \nDie Mitarbeiter vor Ort weisen Euch den Standplatz zu. Es erfolgt keine Erstattung von ggf. zu viel gebuchten Metern. \nVon 10 bis 16 Uhr müssen alle Stände besetzt sein. \nNach Zahlung des Standplatzes erhaltet ihr euer Aufbauticket per E-Mail. Eine telefonische Reservierung ist nicht mehr möglich. Sobald alle Flohmarktplätze vergeben sind\, ist keine Buchung mehr möglich. \nDer Verkauf der Tickets startet 6 Wochen vor dem Termin! \n  \n\n  \n\n  \n\n  \nTermine 2025 im Überblick:\nSo. 23.3. Frühlings-Flohmarkt \nSo. 29.6. 1. Sommer-Flohmarkt \nSo. 24.8. 2. Sommer-Flohmarkt \nSo. 9.11. Herbst-Flohmarkt \nTickets\n\n	\n\n		\n		\n		\n\n		\n\n\n		\n\n\n\n	Tickets\n\n		\n	\n	\n		Die unten stehende Nummer beinhaltet Tickets für diese Veranstaltung aus dem Warenkorb. Durch einen Klick auf "Tickets kaufen" können vorhandene Teilnehmerinformationen bearbeitet sowie die Ticketsanzahl verändert werden.	\n\n\n		\n		\n		\n	\n		Tickets sind nicht länger verfügbar	\n\n\n		\n	\n	\n\n	\n	\n\n	\n	\n\n\n\n			\n\n	\n\n\n\nTeilen\n		\n					\n						\n					\n			\n						\n				\n							\n								\n						\n															\n															\n																				\n					\n									\n						\n															\n															\n																				\n					\n									\n						\n															\n															\n																				\n					\n									\n						\n															\n															\n																				\n					\n									\n						\n															\n															\n																				\n					\n						\n						\n				\n					\n		\n					\n		\n				\n		\nNoch mehr spannende events\nAnsicht laden. \n\n\n\n\n\n\n\n\nHeute\n\n\nHeute\nHeute\n\n–\n\n23.02.2025\n23. Februar\n \n\nDatum wählen. \n \n\n\nFebruar 2025 \n\n\n21. Februar 2025 – 21. Februar 2025\nHerrensitzung\nHerrensitzung Der GCC veranstaltet seine Karnevals Sitzungen auf unserem Hof und…\n\n\n\n22. Februar 2025 – 22. Februar 2025\n1. Prunksitzung\n1. Prunksitzung Der GCC veranstaltet seine Karnevals Sitzungen auf unserem Hof u…\n\n\n\n23. Februar 2025 – 23. Februar 2025\nSeniorenfasching\nSeniorenfasching Der GCC veranstaltet seine Karnevals Sitzungen auf unserem Hof …\n \n\n\nVorherige Veranstaltungen\n\nHeute \n\nNächste Veranstaltungen\n\n\n\nKalender abonnieren  \n\n\nGoogle Kalender \n\niCalendar \n\nOutlook 365 \n\nOutlook Live \n\n.ics-Datei exportieren \n\nExportiere Outlook .ics Datei \n\n\nZU ALLEN EVENTS
URL:https://www.spargelhof-klaistow.de/event/flohmarkt-29-6-2025/
ATTACH;FMTTYPE=image/webp:https://www.spargelhof-klaistow.de/wp-content/uploads/2024/07/Flohmarkt_Kachel3-1.webp
END:VEVENT
END:VCALENDAR