BEGIN:VCALENDAR
VERSION:2.0
PRODID:-//Spargelhof Klaistow - ECPv6.15.11//NONSGML v1.0//EN
CALSCALE:GREGORIAN
METHOD:PUBLISH
X-WR-CALNAME:Spargelhof Klaistow
X-ORIGINAL-URL:https://www.spargelhof-klaistow.de
X-WR-CALDESC:Veranstaltungen für Spargelhof Klaistow
REFRESH-INTERVAL;VALUE=DURATION:PT1H
X-Robots-Tag:noindex
X-PUBLISHED-TTL:PT1H
BEGIN:VTIMEZONE
TZID:Europe/Vienna
BEGIN:DAYLIGHT
TZOFFSETFROM:+0100
TZOFFSETTO:+0200
TZNAME:CEST
DTSTART:20240331T010000
END:DAYLIGHT
BEGIN:STANDARD
TZOFFSETFROM:+0200
TZOFFSETTO:+0100
TZNAME:CET
DTSTART:20241027T010000
END:STANDARD
BEGIN:DAYLIGHT
TZOFFSETFROM:+0100
TZOFFSETTO:+0200
TZNAME:CEST
DTSTART:20250330T010000
END:DAYLIGHT
BEGIN:STANDARD
TZOFFSETFROM:+0200
TZOFFSETTO:+0100
TZNAME:CET
DTSTART:20251026T010000
END:STANDARD
BEGIN:DAYLIGHT
TZOFFSETFROM:+0100
TZOFFSETTO:+0200
TZNAME:CEST
DTSTART:20260329T010000
END:DAYLIGHT
BEGIN:STANDARD
TZOFFSETFROM:+0200
TZOFFSETTO:+0100
TZNAME:CET
DTSTART:20261025T010000
END:STANDARD
END:VTIMEZONE
BEGIN:VTIMEZONE
TZID:UTC
BEGIN:STANDARD
TZOFFSETFROM:+0000
TZOFFSETTO:+0000
TZNAME:UTC
DTSTART:20240101T000000
END:STANDARD
END:VTIMEZONE
BEGIN:VEVENT
DTSTART;TZID=Europe/Vienna:20250719T080000
DTEND;TZID=Europe/Vienna:20250719T103000
DTSTAMP:20260421T142319
CREATED:20250123T140233Z
LAST-MODIFIED:20250528T082830Z
UID:10005447-1752912000-1752921000@www.spargelhof-klaistow.de
SUMMARY:Frühstücksbuffet
DESCRIPTION:Frühstücksbuffet				\n				\n					\n		\n					\n		\n				\n						\n					\n			\n						\n				\n									Richtig gut frühstücken!Ab jetzt dürfen wir euch endlich wieder unser Frühstücksbuffet anbieten!   Was gibts?Frisches vom Landfleischer Joppe\,knusprige Brötchen und Holzofenbrot aus unserer Hofbäckerei\, frisch zubereitete Eierspeisen mit krossem Schinkenspeck\, unsere Klaistower Hof-Marmeladen aus eigenen Früchten\,Müsli und Joghurt mit Früchten und ein warmes Tagessüppchen.   Dazu gibts Mineralwasser\, Tee und frischen Filterkaffee.   								\n				\n				\n				\n									\n					\n						\n									JETZT RESERVIEREN\n					\n					\n				\n								\n				\n					\n		\n				\n			\n						\n				\n					Teilen				\n				\n				\n				\n									\n					\n						\n					\n			\n						\n				\n							\n								\n						\n															\n															\n																				\n					\n									\n						\n															\n															\n																				\n					\n									\n						\n															\n															\n																				\n					\n									\n						\n															\n															\n																				\n					\n									\n						\n															\n															\n																				\n					\n						\n						\n				\n					\n		\n					\n		\n				\n		\n						\n				\n				\n				\n					Wann?				\n				\n				\n				\n									Jeden Samstag\, Sonn- und Feiertag von 8:00-10:30 Uhr in der Scheunenküche.
URL:https://www.spargelhof-klaistow.de/event/fruehstuecksbuffet/2025-07-19/
CATEGORIES:Essen-Trinken
ATTACH;FMTTYPE=image/webp:https://www.spargelhof-klaistow.de/wp-content/uploads/2024/04/WordPress_teaserKachel-1.webp
END:VEVENT
BEGIN:VEVENT
DTSTART;TZID=UTC:20250719T080000
DTEND;TZID=UTC:20250719T160000
DTSTAMP:20260421T142319
CREATED:20240410T131120Z
LAST-MODIFIED:20250117T144445Z
UID:10001062-1752912000-1752940800@www.spargelhof-klaistow.de
SUMMARY:Tough Mudder Klaistow
DESCRIPTION:Tough Mudder Klaistow\nMit den innovativsten Strecken\, spektakulären Hindernissen und einer halben Million begeisterter Teilnehmer/-innen ist Tough Mudder die führende Abenteuer-Hindernisparcours-Serie der Welt.Erstmalig ist die Serie auf dem Spargel- und Erlebnishof Klaistow bei Berlin zu Gast. Im Angebot sind 5 Kilometer und 13 Hindernisse\, 10 Kilometer und 20 Hindernisse oder 15 Kilometer und 30 Hindernisse.Umrahmt von dem bekannten Mudder-Village\, welches an zwei Tagen Musik\, Gastronomie und Unterhaltung für Festival-Stimmung pur sorgen wird.Tough Mudder ist kein Wettrennen\, sondern eine echte Team-Challenge\, denn bei vielen Hindernissen ist es unmöglich\, diese allein zu bewältigen.Um Schlamm\, Feuer\, Eiswasser und 10.000 Volt zu trotzen braucht man starke Teamkameraden/-innen! \nTickets und mehr Informationen über Tough Mudder. \nTeilen\n		\n					\n						\n					\n			\n						\n				\n							\n								\n						\n															\n															\n																				\n					\n									\n						\n															\n															\n																				\n					\n									\n						\n															\n															\n																				\n					\n									\n						\n															\n															\n																				\n					\n									\n						\n															\n															\n																				\n					\n						\n						\n				\n					\n		\n					\n		\n				\n		\nÖffnungszeiten\nWann? \nAm 19.7.2025\, ab 8 Uhr \n  \n Wo? \nStart ist auf dem Parkplatz des Spargelhofes.
URL:https://www.spargelhof-klaistow.de/event/tough-mudder-klaistow/
CATEGORIES:Events
ATTACH;FMTTYPE=image/webp:https://www.spargelhof-klaistow.de/wp-content/uploads/2024/04/WordPress_teaserKachel-_2_-1.webp
END:VEVENT
BEGIN:VEVENT
DTSTART;TZID=UTC:20250719T100000
DTEND;TZID=UTC:20250719T130000
DTSTAMP:20260421T142319
CREATED:20250505T094849Z
LAST-MODIFIED:20250505T095048Z
UID:10005733-1752919200-1752930000@www.spargelhof-klaistow.de
SUMMARY:Bauernbrunch
DESCRIPTION:Bauernbrunch				\n				\n					\n		\n					\n		\n				\n						\n					\n			\n						\n				\n									Genießt gemeinsam mit der Familie\, Freunden\, zum Geburtstag oder zu zweit in kleiner Runde einen ausgiebigen Brunch! Ihr findet auf dem Buffet alles\, was das Herz begehrt: von knusprigen Brötchen und Holzofenbrot aus unserer Hofbäckerei\, Leckerem vom Landfleischer Joppe bis hin zu unseren Klaistower Hof-Marmeladen aus eigenen Früchten und saisonalem Obst und Gemüse. Von der warmen Küche gibt‘s Auflauf oder Gratin\, Eierspeisen\, Geflügel\, Nudeln\, Ofengemüse und unseren ofenfrischen Hofbraten! Außerdem im Angebot: knackiger Salat und leckere Desserts. Im Preis eingeschlossen sind frischer Filterkaffee sowie aromatisiertes Wasser! Außerdem gibts für jeden ein Glas Sekt (oder alk. frei).    Preis:  29\,95€ pro Erwachsener 15\,95€ pro Kind 7-12 Jahre9\,95€ pro Kind 3-6 JahreKostenfrei für Kinder 0-2 Jahre 								\n				\n				\n				\n									\n					\n						\n									JETZT RESERVIEREN\n					\n					\n				\n								\n				\n					\n		\n				\n			\n						\n				\n					Teilen				\n				\n				\n				\n									\n					\n						\n					\n			\n						\n				\n							\n								\n						\n															\n															\n																				\n					\n									\n						\n															\n															\n																				\n					\n									\n						\n															\n															\n																				\n					\n									\n						\n															\n															\n																				\n					\n									\n						\n															\n															\n																				\n					\n						\n						\n				\n					\n		\n					\n		\n				\n		\n						\n				\n				\n				\n					Wann?				\n				\n				\n				\n									Ab dem 22.3. bis 13.4. und dann wieder ab 28.6. jeden Samstag + Sonntag + Feiertag von 10-13 Uhr im Hofrestaurant
URL:https://www.spargelhof-klaistow.de/event/bauernbrunch-2-2/2025-07-19/
CATEGORIES:Essen-Trinken
ATTACH;FMTTYPE=image/webp:https://www.spargelhof-klaistow.de/wp-content/uploads/2024/04/WordPress_teaserKachel-_1_-1.webp
END:VEVENT
BEGIN:VEVENT
DTSTART;TZID=Europe/Vienna:20250719T170000
DTEND;TZID=Europe/Vienna:20250719T210000
DTSTAMP:20260421T142319
CREATED:20250611T130920Z
LAST-MODIFIED:20250623T115542Z
UID:10005825-1752944400-1752958800@www.spargelhof-klaistow.de
SUMMARY:Klaistower Sommer-Buffet
DESCRIPTION:Klaistower Sommer-Buffet				\n				\n					\n		\n					\n		\n				\n						\n					\n			\n						\n				\n									Erlebt einen genussvollen Sommerabend auf dem Spargel- und Erlebnishof Klaistow! Unser Sommer-Buffet bringt euch die Vielfalt der Region auf den Teller – frisch\, saisonal und in gemütlicher Hofatmosphäre. Ob mit Familie\, Freunden oder Kollegen: Hier wird euer Abend garantiert lecker!   Bowl- und Salat-Station zum selbst variierenMediterrane und leichte Speisen wie Antipasti\, Flammkuchen\, Hähnchen in Tomaten GemüseKlaistower Würzfleisch und Königsberger KlopseHausgemachte Sülze aus unserer Hof FleischereiLeberkäse mit Spiegel Ei dazu süßer SenfSchnitzel mit Pilz-Rahm SauceDDR-Klassiker wie JägerschnitzelPasta mit veganer Bolognese-Heidelbeersoße… und vieles mehr!   Dessert: Jogurt-Cotta\, Heidelbeer-Tiramisu\, Heidelbeer-Creme-Brûlée\, Rote Grütze\, Schoko- und Vanillepudding  Waffel-Station zum selbst variieren! Mit Puderzucker\, Nutella\, frischem Obst und Klaistower Heidelbeer-Sauce   Preise: • Erwachsene: 24\,90 € • Kinder (6–12 Jahre): 12\,90 € • Kinder unter 6 Jahren: kostenlos Getränke sind nicht im Preis enthalten und können vor Ort bestellt werden. 								\n				\n				\n				\n									\n					\n						\n									JETZT RESERVIEREN\n					\n					\n				\n								\n				\n					\n		\n				\n			\n						\n				\n					Termin & Uhrzeit				\n				\n				\n				\n									Ab 27.6. jeden Freitag und Samstag Buffet geöffnet von 17:00 – 21:00 Uhr 								\n				\n				\n				\n					Teilen
URL:https://www.spargelhof-klaistow.de/event/klaistower-sommer-buffet/2025-07-19/
CATEGORIES:Essen-Trinken
ATTACH;FMTTYPE=image/webp:https://www.spargelhof-klaistow.de/wp-content/uploads/2025/06/Sommer-Buffet-2025-1.webp
END:VEVENT
END:VCALENDAR