BEGIN:VCALENDAR
VERSION:2.0
PRODID:-//Spargelhof Klaistow - ECPv6.15.11//NONSGML v1.0//EN
CALSCALE:GREGORIAN
METHOD:PUBLISH
X-ORIGINAL-URL:https://www.spargelhof-klaistow.de
X-WR-CALDESC:Veranstaltungen für Spargelhof Klaistow
REFRESH-INTERVAL;VALUE=DURATION:PT1H
X-Robots-Tag:noindex
X-PUBLISHED-TTL:PT1H
BEGIN:VTIMEZONE
TZID:UTC
BEGIN:STANDARD
TZOFFSETFROM:+0000
TZOFFSETTO:+0000
TZNAME:UTC
DTSTART:20240101T000000
END:STANDARD
END:VTIMEZONE
BEGIN:VEVENT
DTSTART;TZID=UTC:20250826T090000
DTEND;TZID=UTC:20250826T180000
DTSTAMP:20260421T194943
CREATED:20250910T084728Z
LAST-MODIFIED:20250910T084744Z
UID:10006148-1756198800-1756231200@www.spargelhof-klaistow.de
SUMMARY:Heidelbeer-Selbstpflücke
DESCRIPTION:Heidelbeer-Selbstpflücke				\n				\n					\n		\n					\n		\n				\n						\n					\n			\n						\n				\n					Pflück dir den Sommer!				\n				\n				\n				\n									Unsere Heidelbeer-Selbstpflücke ist mehr als nur Ernte – sie ist ein kleines Abenteuer in der Natur. Der Weg führt euch vorbei am Ziegen-Streichelgehege\, durch das Wildgehege bis zur großen Lichtung im Kiefernwald\, wo unsere Heidelbeeren unter freiem Himmel wachsen.   Dort zeigen euch unsere Mitarbeiter\, wo die größten und reifsten Früchte hängen. Ihr bekommt von uns ein Körbchen oder eine Schale – und dann geht’s los: Reihenweise volle Sträucher\, leuchtend blaue Beeren und jede Menge Pflückspaß für Groß und Klein.   Dank unserer gut gepflegten Pflanzen sind die Beeren besonders groß und saftig – ideal zum schnellen Füllen.Ob als Familienausflug\, Naturerlebnis oder zum Naschen zwischendurch: Wer einmal gepflückt hat\, kommt gern wieder. 								\n				\n				\n				\n									\n					\n						\n									JETZT ANFAHRT PLANEN\n					\n					\n				\n								\n				\n				\n				\n					Häufige Fragen zur Heidelbeer-Selbstpflücke				\n				\n				\n				\n									Kann ich eigene Schalen oder Körbe mitbringen?Nein\, bitte keine eigenen Gefäße mitbringen. Ihr bekommt von uns eine Schale oder ein Körbchen.   Was kostet das Pflücken?Ihr zahlt vorab eine kleine Pauschale (inkl. Schale). Nach dem Wiegen wird diese vom Gesamtpreis abgezogen.👉 Preis 2025: 7\,95 €/kg   Wann kann ich pflücken?Täglich bei gutem Wetter.Bitte beachtet: Bei schlechtem Wetter oder wenn zu viele Beeren gepflückt wurden\, schließen wir die Felder vorübergehend.   Sind die Felder immer geöffnet?Nicht immer. Besonders gegen Saisonende oft nur am Wochenende geöffnet.Bitte informiert euch tagesaktuell im Hofbüro:📞 033206 – 610 70   Warum kann das Feld geschlossen sein?Damit neue Beeren nachreifen – sie brauchen Sonne\, um schön blau und süß zu werden. 								\n				\n				\n				\n									\n					\n						\n									JETZT ANFAHRT PLANEN\n					\n					\n				\n								\n				\n					\n		\n				\n			\n						\n				\n					Öffnungszeiten				\n				\n				\n				\n									Wann? Ab 26. Juni täglich von 9:00 bis 18:00 Uhr (je nach Wetter und Reifegrad)    Wo? Glindower Str. 28 / 14547 Beelitz Das Heidelbeer-Feld befindet sich im Wald\, am Naturwildgehege. 								\n				\n				\n				\n					Teilen
URL:https://www.spargelhof-klaistow.de/event/heidelbeer-selbstpfluecke-2/
CATEGORIES:Events
ATTACH;FMTTYPE=image/webp:https://www.spargelhof-klaistow.de/wp-content/uploads/2024/04/WordPress_teaserKachel-7-1.webp
END:VEVENT
BEGIN:VEVENT
DTSTART;TZID=UTC:20250826T100000
DTEND;TZID=UTC:20250826T180000
DTSTAMP:20260421T194943
CREATED:20250117T110130Z
LAST-MODIFIED:20251103T094759Z
UID:10005949-1756202400-1756231200@www.spargelhof-klaistow.de
SUMMARY:Maislabyrinth
DESCRIPTION:Maislabyrinth				\n				\n				\n				\n									Ab 16.8.2025 geöffnet! Das 25.000 m² große Maislabyrinth mit Gewinnspiel! 								\n				\n					\n		\n					\n		\n				\n						\n					\n			\n						\n				\n					Mitte Juli bis Oktober				\n				\n				\n				\n									Unser Maislabyrinth ist von Mitte Juli bis Oktober täglich für Euch geöffnet. Macht mit und sucht die im Labyrinth versteckten Stempelstationen. Beantwortet die Quiz-Fragen und findet entlang der Irrwege den Ausgang. Man braucht ca. 60 Minuten um alle Stationen zu finden und die Rätsel zu lösen.   Öffnungszeiten: Ab 16.8. täglich von 10-18 Uhr geöffnet! Eintritt: Erwachsene 3 €\, Kinder (von 1 m Körpergröße bis 12 Jahre) 2 €\, Kinder unter 1 m haben freien Eintritt! Letzter Einlass: 17:30 Uhr 								\n				\n					\n		\n				\n			\n						\n				\n																\n															\n															\n				\n					\n		\n					\n		\n				\n						\n					\n			\n						\n				\n									\n					\n						\n									JETZT ANFAHRT PLANEN\n					\n					\n				\n								\n				\n				\n				\n					Gewinnspiel				\n				\n				\n				\n									Und hier die Gewinner bei unserem Maislabyrinth-Gewinnspiel 2024:   Gewinner bei den Erwachsenen: Gutschein für den Hofladen im Wert von 50 €: P. Benz aus 10365 Berlin Gutschein für den Hofladen im Wert von 30 €: J. Giesler aus 14797 Kloster Lehnin Gutschein für den Hofladen im Wert von 20 €: S. Jäkel aus 14669 Ketzin   Gewinner bei den Kindern: eine Runde Jeep-Safari geht an: Johann S. aus Sinsheim\, Jason N. aus Schulzendorf\, Pepe. K aus Brandenburg ein Besuch im Kletterwald geht an: Lynn L. aus Rathenow\, Niklas R. aus Wittstock\, Anna-Lena B. aus Wustermark das Bungee-Jumping geht an: Finn K. aus Michendorf\, Samira G. aus Golzow und Nele J. aus Schwendt / Oder Herzlichen Glückwunsch\, die Gutscheine für die Gewinne werden euch zugeschickt!
URL:https://www.spargelhof-klaistow.de/event/maislabyrinth-2-2/2025-08-26/
CATEGORIES:Featured Startseite
ATTACH;FMTTYPE=image/webp:https://www.spargelhof-klaistow.de/wp-content/uploads/2023/11/WordPress_teaserKachel-1-3.webp
END:VEVENT
END:VCALENDAR