BEGIN:VCALENDAR
VERSION:2.0
PRODID:-//Spargelhof Klaistow - ECPv6.15.11//NONSGML v1.0//EN
CALSCALE:GREGORIAN
METHOD:PUBLISH
X-WR-CALNAME:Spargelhof Klaistow
X-ORIGINAL-URL:https://www.spargelhof-klaistow.de
X-WR-CALDESC:Veranstaltungen für Spargelhof Klaistow
REFRESH-INTERVAL;VALUE=DURATION:PT1H
X-Robots-Tag:noindex
X-PUBLISHED-TTL:PT1H
BEGIN:VTIMEZONE
TZID:Europe/Vienna
BEGIN:DAYLIGHT
TZOFFSETFROM:+0100
TZOFFSETTO:+0200
TZNAME:CEST
DTSTART:20240331T010000
END:DAYLIGHT
BEGIN:STANDARD
TZOFFSETFROM:+0200
TZOFFSETTO:+0100
TZNAME:CET
DTSTART:20241027T010000
END:STANDARD
BEGIN:DAYLIGHT
TZOFFSETFROM:+0100
TZOFFSETTO:+0200
TZNAME:CEST
DTSTART:20250330T010000
END:DAYLIGHT
BEGIN:STANDARD
TZOFFSETFROM:+0200
TZOFFSETTO:+0100
TZNAME:CET
DTSTART:20251026T010000
END:STANDARD
BEGIN:DAYLIGHT
TZOFFSETFROM:+0100
TZOFFSETTO:+0200
TZNAME:CEST
DTSTART:20260329T010000
END:DAYLIGHT
BEGIN:STANDARD
TZOFFSETFROM:+0200
TZOFFSETTO:+0100
TZNAME:CET
DTSTART:20261025T010000
END:STANDARD
END:VTIMEZONE
BEGIN:VTIMEZONE
TZID:UTC
BEGIN:STANDARD
TZOFFSETFROM:+0000
TZOFFSETTO:+0000
TZNAME:UTC
DTSTART:20240101T000000
END:STANDARD
END:VTIMEZONE
BEGIN:VEVENT
DTSTART;TZID=Europe/Vienna:20250831T080000
DTEND;TZID=Europe/Vienna:20250831T103000
DTSTAMP:20260421T180211
CREATED:20250123T140233Z
LAST-MODIFIED:20250528T082830Z
UID:10005460-1756627200-1756636200@www.spargelhof-klaistow.de
SUMMARY:Frühstücksbuffet
DESCRIPTION:Frühstücksbuffet				\n				\n					\n		\n					\n		\n				\n						\n					\n			\n						\n				\n									Richtig gut frühstücken!Ab jetzt dürfen wir euch endlich wieder unser Frühstücksbuffet anbieten!   Was gibts?Frisches vom Landfleischer Joppe\,knusprige Brötchen und Holzofenbrot aus unserer Hofbäckerei\, frisch zubereitete Eierspeisen mit krossem Schinkenspeck\, unsere Klaistower Hof-Marmeladen aus eigenen Früchten\,Müsli und Joghurt mit Früchten und ein warmes Tagessüppchen.   Dazu gibts Mineralwasser\, Tee und frischen Filterkaffee.   								\n				\n				\n				\n									\n					\n						\n									JETZT RESERVIEREN\n					\n					\n				\n								\n				\n					\n		\n				\n			\n						\n				\n					Teilen				\n				\n				\n				\n									\n					\n						\n					\n			\n						\n				\n							\n								\n						\n															\n															\n																				\n					\n									\n						\n															\n															\n																				\n					\n									\n						\n															\n															\n																				\n					\n									\n						\n															\n															\n																				\n					\n									\n						\n															\n															\n																				\n					\n						\n						\n				\n					\n		\n					\n		\n				\n		\n						\n				\n				\n				\n					Wann?				\n				\n				\n				\n									Jeden Samstag\, Sonn- und Feiertag von 8:00-10:30 Uhr in der Scheunenküche.
URL:https://www.spargelhof-klaistow.de/event/fruehstuecksbuffet/2025-08-31/
CATEGORIES:Essen-Trinken
ATTACH;FMTTYPE=image/webp:https://www.spargelhof-klaistow.de/wp-content/uploads/2024/04/WordPress_teaserKachel-1.webp
END:VEVENT
BEGIN:VEVENT
DTSTART;TZID=UTC:20250831T100000
DTEND;TZID=UTC:20250831T130000
DTSTAMP:20260421T180211
CREATED:20250505T094849Z
LAST-MODIFIED:20250505T095048Z
UID:10005746-1756634400-1756645200@www.spargelhof-klaistow.de
SUMMARY:Bauernbrunch
DESCRIPTION:Bauernbrunch				\n				\n					\n		\n					\n		\n				\n						\n					\n			\n						\n				\n									Genießt gemeinsam mit der Familie\, Freunden\, zum Geburtstag oder zu zweit in kleiner Runde einen ausgiebigen Brunch! Ihr findet auf dem Buffet alles\, was das Herz begehrt: von knusprigen Brötchen und Holzofenbrot aus unserer Hofbäckerei\, Leckerem vom Landfleischer Joppe bis hin zu unseren Klaistower Hof-Marmeladen aus eigenen Früchten und saisonalem Obst und Gemüse. Von der warmen Küche gibt‘s Auflauf oder Gratin\, Eierspeisen\, Geflügel\, Nudeln\, Ofengemüse und unseren ofenfrischen Hofbraten! Außerdem im Angebot: knackiger Salat und leckere Desserts. Im Preis eingeschlossen sind frischer Filterkaffee sowie aromatisiertes Wasser! Außerdem gibts für jeden ein Glas Sekt (oder alk. frei).    Preis:  29\,95€ pro Erwachsener 15\,95€ pro Kind 7-12 Jahre9\,95€ pro Kind 3-6 JahreKostenfrei für Kinder 0-2 Jahre 								\n				\n				\n				\n									\n					\n						\n									JETZT RESERVIEREN\n					\n					\n				\n								\n				\n					\n		\n				\n			\n						\n				\n					Teilen				\n				\n				\n				\n									\n					\n						\n					\n			\n						\n				\n							\n								\n						\n															\n															\n																				\n					\n									\n						\n															\n															\n																				\n					\n									\n						\n															\n															\n																				\n					\n									\n						\n															\n															\n																				\n					\n									\n						\n															\n															\n																				\n					\n						\n						\n				\n					\n		\n					\n		\n				\n		\n						\n				\n				\n				\n					Wann?				\n				\n				\n				\n									Ab dem 22.3. bis 13.4. und dann wieder ab 28.6. jeden Samstag + Sonntag + Feiertag von 10-13 Uhr im Hofrestaurant
URL:https://www.spargelhof-klaistow.de/event/bauernbrunch-2-2/2025-08-31/
CATEGORIES:Essen-Trinken
ATTACH;FMTTYPE=image/webp:https://www.spargelhof-klaistow.de/wp-content/uploads/2024/04/WordPress_teaserKachel-_1_-1.webp
END:VEVENT
BEGIN:VEVENT
DTSTART;TZID=UTC:20250831T100000
DTEND;TZID=UTC:20250831T180000
DTSTAMP:20260421T180211
CREATED:20250117T110130Z
LAST-MODIFIED:20251103T094759Z
UID:10005954-1756634400-1756663200@www.spargelhof-klaistow.de
SUMMARY:Maislabyrinth
DESCRIPTION:Maislabyrinth				\n				\n				\n				\n									Ab 16.8.2025 geöffnet! Das 25.000 m² große Maislabyrinth mit Gewinnspiel! 								\n				\n					\n		\n					\n		\n				\n						\n					\n			\n						\n				\n					Mitte Juli bis Oktober				\n				\n				\n				\n									Unser Maislabyrinth ist von Mitte Juli bis Oktober täglich für Euch geöffnet. Macht mit und sucht die im Labyrinth versteckten Stempelstationen. Beantwortet die Quiz-Fragen und findet entlang der Irrwege den Ausgang. Man braucht ca. 60 Minuten um alle Stationen zu finden und die Rätsel zu lösen.   Öffnungszeiten: Ab 16.8. täglich von 10-18 Uhr geöffnet! Eintritt: Erwachsene 3 €\, Kinder (von 1 m Körpergröße bis 12 Jahre) 2 €\, Kinder unter 1 m haben freien Eintritt! Letzter Einlass: 17:30 Uhr 								\n				\n					\n		\n				\n			\n						\n				\n																\n															\n															\n				\n					\n		\n					\n		\n				\n						\n					\n			\n						\n				\n									\n					\n						\n									JETZT ANFAHRT PLANEN\n					\n					\n				\n								\n				\n				\n				\n					Gewinnspiel				\n				\n				\n				\n									Und hier die Gewinner bei unserem Maislabyrinth-Gewinnspiel 2024:   Gewinner bei den Erwachsenen: Gutschein für den Hofladen im Wert von 50 €: P. Benz aus 10365 Berlin Gutschein für den Hofladen im Wert von 30 €: J. Giesler aus 14797 Kloster Lehnin Gutschein für den Hofladen im Wert von 20 €: S. Jäkel aus 14669 Ketzin   Gewinner bei den Kindern: eine Runde Jeep-Safari geht an: Johann S. aus Sinsheim\, Jason N. aus Schulzendorf\, Pepe. K aus Brandenburg ein Besuch im Kletterwald geht an: Lynn L. aus Rathenow\, Niklas R. aus Wittstock\, Anna-Lena B. aus Wustermark das Bungee-Jumping geht an: Finn K. aus Michendorf\, Samira G. aus Golzow und Nele J. aus Schwendt / Oder Herzlichen Glückwunsch\, die Gutscheine für die Gewinne werden euch zugeschickt!
URL:https://www.spargelhof-klaistow.de/event/maislabyrinth-2-2/2025-08-31/
CATEGORIES:Featured Startseite
ATTACH;FMTTYPE=image/webp:https://www.spargelhof-klaistow.de/wp-content/uploads/2023/11/WordPress_teaserKachel-1-3.webp
END:VEVENT
BEGIN:VEVENT
DTSTART;TZID=Europe/Vienna:20250831T150000
DTEND;TZID=Europe/Vienna:20250831T180000
DTSTAMP:20260421T180211
CREATED:20250611T142134Z
LAST-MODIFIED:20250611T142218Z
UID:10005818-1756652400-1756663200@www.spargelhof-klaistow.de
SUMMARY:Heidelbeer-Buffet
DESCRIPTION:Heidelbeer-Buffet				\n				\n					\n		\n					\n		\n				\n						\n					\n			\n						\n				\n									Pünktlich zum Start der Heidelbeer-Saison gibt’s auch endlich wieder unser Heidelbeer-Buffet! Das heißt\, es gibt viel zu probieren und von allem so viel man will!   Es gibt zum Beispiel als Hauptgerichte:• Hähnchenbrust überbacken mit Heidelbeer-Frischkäse• Kassler Steaks mit Heidelbeerkraut• Pasta mit Pfifferlingen in Kräuterrahm und Heidelbeeren• Flammkuchen mit Heidelbeeren und Apfel• Flammkuchen mit Speck und Zwiebeln…und vieles mehr!   Als Dessert:Joghurt Cotta mit Heidelbeer-Fruchtsoße\, Heidelbeer-Topfenstrudel\, Heidelbeerquark\, Vanillepudding mit Heidelbeeren\, frisches Obst und HeidelbeerkuchenAußerdem: Kalte Beilagen und Salate: Blattsalat mit Melone\, Ziegenkäse\, Heidelbeeren und Heidelbeerdressing! u.v.m. Preis:26\,95€ pro Erwachsene Person\, 13\,95€ pro Kind von 1m – 1\,49m Kinder unter 1m kostenfrei 								\n				\n				\n				\n									\n					\n						\n									JETZT RESERVIEREN\n					\n					\n				\n								\n				\n					\n		\n				\n			\n						\n				\n					Teilen				\n				\n				\n				\n									\n					\n						\n					\n			\n						\n				\n							\n								\n						\n															\n															\n																				\n					\n									\n						\n															\n															\n																				\n					\n									\n						\n															\n															\n																				\n					\n									\n						\n															\n															\n																				\n					\n									\n						\n															\n															\n																				\n					\n						\n						\n				\n					\n		\n					\n		\n				\n		\n						\n				\n				\n				\n					Wann?				\n				\n				\n				\n									Jeden Sonntag von 15-18 Uhr\, bis zum 25.8.
URL:https://www.spargelhof-klaistow.de/event/heidelbeer-buffet-3-2/2025-08-31/
CATEGORIES:Essen-Trinken
ATTACH;FMTTYPE=image/webp:https://www.spargelhof-klaistow.de/wp-content/uploads/2024/08/Heidelbeer-Buffet.webp
END:VEVENT
END:VCALENDAR