BEGIN:VCALENDAR
VERSION:2.0
PRODID:-//Spargelhof Klaistow - ECPv6.15.11//NONSGML v1.0//EN
CALSCALE:GREGORIAN
METHOD:PUBLISH
X-WR-CALNAME:Spargelhof Klaistow
X-ORIGINAL-URL:https://www.spargelhof-klaistow.de
X-WR-CALDESC:Veranstaltungen für Spargelhof Klaistow
REFRESH-INTERVAL;VALUE=DURATION:PT1H
X-Robots-Tag:noindex
X-PUBLISHED-TTL:PT1H
BEGIN:VTIMEZONE
TZID:Europe/Vienna
BEGIN:DAYLIGHT
TZOFFSETFROM:+0100
TZOFFSETTO:+0200
TZNAME:CEST
DTSTART:20240331T010000
END:DAYLIGHT
BEGIN:STANDARD
TZOFFSETFROM:+0200
TZOFFSETTO:+0100
TZNAME:CET
DTSTART:20241027T010000
END:STANDARD
BEGIN:DAYLIGHT
TZOFFSETFROM:+0100
TZOFFSETTO:+0200
TZNAME:CEST
DTSTART:20250330T010000
END:DAYLIGHT
BEGIN:STANDARD
TZOFFSETFROM:+0200
TZOFFSETTO:+0100
TZNAME:CET
DTSTART:20251026T010000
END:STANDARD
BEGIN:DAYLIGHT
TZOFFSETFROM:+0100
TZOFFSETTO:+0200
TZNAME:CEST
DTSTART:20260329T010000
END:DAYLIGHT
BEGIN:STANDARD
TZOFFSETFROM:+0200
TZOFFSETTO:+0100
TZNAME:CET
DTSTART:20261025T010000
END:STANDARD
END:VTIMEZONE
BEGIN:VTIMEZONE
TZID:UTC
BEGIN:STANDARD
TZOFFSETFROM:+0000
TZOFFSETTO:+0000
TZNAME:UTC
DTSTART:20240101T000000
END:STANDARD
END:VTIMEZONE
BEGIN:VEVENT
DTSTART;TZID=Europe/Vienna:20251031T090000
DTEND;TZID=Europe/Vienna:20251031T180000
DTSTAMP:20260421T223255
CREATED:20250825T102336Z
LAST-MODIFIED:20251110T155030Z
UID:10006080-1761901200-1761933600@www.spargelhof-klaistow.de
SUMMARY:Kürbisausstellung
DESCRIPTION:Kürbisausstellung				\n				\n					\n		\n					\n		\n				\n						\n					\n			\n						\n				\n									„Kürbis goes to Hollywood“ ist das Motto der Größten Kürbisausstellung Berlin/Brandenburgs 2026   Unser Hof hat sich nun wieder in den Kürbishof Klaistow verwandelt und ist mit hunderttausenden orangefarbene Kürbissen dekoriert. Micky Maus und viele mehr sind als riesige Holzskulpturen auf dem Hofgelände aufgestellt und über und über mit Kürbissen behängt.   Außerdem erwarten euch: mehr als 100.000 Kürbisse\, die den gesamten Hof in ein leuchtendes Meer aus Orange- und Goldtönen verwandelneine Sortenschau mit annähernd 500 verschiedenen Kürbissorten aus aller Welt in einer riesigen Vielfalt hinsichtlich Formen und Farben\, vom kleinsten Kürbis aus den USA mit dem Namen „Ghostrider“ mit einem Gewicht von 35 g bis hin zu Flaschenkürbissen von über 1 m Längedie riesige Kürbis-Pyramideder Kürbismarkt mit über 30 verschiedenen Speise- und Zierkürbisse zum Verkauf\, alle aus eigenem regionalen Anbautolle Kürbisschnitzereien\, erstellt von professionellen SchnitzernKulinarisches rund um den Kürbis in der Gastronomie und der Bäckerei wie Kürbissuppe\, Kürbis-Flammkuchen\, hausgemachtes Kürbis-Eis oder KürbiskernbrotKürbisspezialitäten im Hofladen: frisch geröstete Kürbiskerne\, Kürbis-Fruchtaufstrich\, Kürbissuppe\, Kürbis-Likör oder auch Gewürze für die Kürbisküche zuhause und vieles mehr.  Events im Rahmen der Kürbisausstellung: So. 6.9. ab 11 Uhr: Deutsche Riesengemüse-Wiegemeisterschaft So. 13.9. ab 14 Uhr: Die Kleine Kürbiswiegemeisterschaft: Für Schulklassen und Vereine So. 27.9. ab 11 Uhr: Das Größte Kürbiswiegen der Welt! So. 1.11. 14 Uhr: Kürbis-Schlachten So. 8.11. 10-16 Uhr Großer Herbst-Flohmarkt 								\n				\n				\n				\n									\n					\n						\n									AUF INSTAGRAM ANSEHEN\n					\n					\n				\n								\n				\n				\n						\n					\n			\n						\n				\n					DIE GEWINNER DES KÜRBISAUSSTELLUNGS-GEWINNSPIELS				\n				\n				\n				\n									Gutschein für ein Gänseessen: Lisa W. aus 14471 Potsdam Gutschein für den Kletterwald für 2 Erwachse + 1 Kind: Nelda N. aus 03149 Forst\, Annika E. aus 10317 Berlin und Lucy P. aus 06366 Köthen Gutschein für die Jeep-Safari: Malte S. aus 06780 Zörbig\, Luca P. aus 14542 Werder und Marie B. aus 12589 Berlin 								\n				\n					\n		\n					\n		\n				\n				\n					SORTENSCHAU: VIELFALT IN ALLEN FORMEN UND FARBEN				\n				\n				\n				\n									Unsere Sortenschau mit mehr als 500 Kürbissen aus aller Welt zeigt die große Farben- und Formenvielfalt der Feldfrüchte. Dazu gehört beispielsweise der Futsu Kurokawa aus Japan. Auch der Blue Banana aus Guatemala wird hier gezeigt. Er ähnelt der Form einer Banane\, ist jedoch viel größer und blau-grau. Wie dieser Kürbis erhielten auch andere Kürbisse nicht grundlos ihren Namen. So ähnelt die sogenannte Bischofsmütze tatsächlich einer solchen. Und der Halloween-Kürbis eignet sich am besten zum Schnitzen und das nicht nur zum Halloween-Fest. 								\n				\n				\n				\n																														\n				\n					\n		\n				\n			\n						\n				\n					Öffnungszeiten				\n				\n				\n				\n									Wann? Ab dem 5. September bis zum 15. November\, täglich von 9 bis 18 Uhr.    Wo? Der Ausstellungsbereich befindet sich auf dem Spielplatzgelände. 								\n				\n				\n				\n					Preis				\n				\n				\n				\n									Bis 12 Jahre kostenlos 								\n				\n				\n				\n					Teilen				\n				\n				\n				\n									\n					\n						\n					\n			\n						\n				\n							\n								\n						\n															\n															\n																				\n					\n									\n						\n															\n															\n																				\n					\n									\n						\n															\n															\n																				\n					\n									\n						\n															\n															\n																				\n					\n									\n						\n															\n															\n																				\n					\n						\n						\n				\n					\n		\n					\n		\n				\n		\n						\n				\n					\n		\n					\n		\n				\n						\n					\n			\n						\n				\n									\n					\n						\n									ANFAHRT PLANEN\n					\n					\n				\n								\n				\n					\n		\n					\n		\n				\n						\n					\n			\n						\n				\n					Kürbisschnitzen				\n				\n				\n				\n									Der Kürbisschnitzer Daniel Brehmer besucht die Kürbisausstellung und fertigt schaurig schöne Schnitzkürbisse an.
URL:https://www.spargelhof-klaistow.de/event/kuerbisausstellung/2025-10-31/
CATEGORIES:Featured Startseite,Kürbis
ATTACH;FMTTYPE=image/webp:https://www.spargelhof-klaistow.de/wp-content/uploads/2025/08/Kuerbis-Ausstellung-Verlaengert-2025-1.webp
END:VEVENT
BEGIN:VEVENT
DTSTART;TZID=UTC:20251031T100000
DTEND;TZID=UTC:20251031T180000
DTSTAMP:20260421T223255
CREATED:20250117T110130Z
LAST-MODIFIED:20251103T094759Z
UID:10006015-1761904800-1761933600@www.spargelhof-klaistow.de
SUMMARY:Maislabyrinth
DESCRIPTION:Maislabyrinth				\n				\n				\n				\n									Ab 16.8.2025 geöffnet! Das 25.000 m² große Maislabyrinth mit Gewinnspiel! 								\n				\n					\n		\n					\n		\n				\n						\n					\n			\n						\n				\n					Mitte Juli bis Oktober				\n				\n				\n				\n									Unser Maislabyrinth ist von Mitte Juli bis Oktober täglich für Euch geöffnet. Macht mit und sucht die im Labyrinth versteckten Stempelstationen. Beantwortet die Quiz-Fragen und findet entlang der Irrwege den Ausgang. Man braucht ca. 60 Minuten um alle Stationen zu finden und die Rätsel zu lösen.   Öffnungszeiten: Ab 16.8. täglich von 10-18 Uhr geöffnet! Eintritt: Erwachsene 3 €\, Kinder (von 1 m Körpergröße bis 12 Jahre) 2 €\, Kinder unter 1 m haben freien Eintritt! Letzter Einlass: 17:30 Uhr 								\n				\n					\n		\n				\n			\n						\n				\n																\n															\n															\n				\n					\n		\n					\n		\n				\n						\n					\n			\n						\n				\n									\n					\n						\n									JETZT ANFAHRT PLANEN\n					\n					\n				\n								\n				\n				\n				\n					Gewinnspiel				\n				\n				\n				\n									Und hier die Gewinner bei unserem Maislabyrinth-Gewinnspiel 2024:   Gewinner bei den Erwachsenen: Gutschein für den Hofladen im Wert von 50 €: P. Benz aus 10365 Berlin Gutschein für den Hofladen im Wert von 30 €: J. Giesler aus 14797 Kloster Lehnin Gutschein für den Hofladen im Wert von 20 €: S. Jäkel aus 14669 Ketzin   Gewinner bei den Kindern: eine Runde Jeep-Safari geht an: Johann S. aus Sinsheim\, Jason N. aus Schulzendorf\, Pepe. K aus Brandenburg ein Besuch im Kletterwald geht an: Lynn L. aus Rathenow\, Niklas R. aus Wittstock\, Anna-Lena B. aus Wustermark das Bungee-Jumping geht an: Finn K. aus Michendorf\, Samira G. aus Golzow und Nele J. aus Schwendt / Oder Herzlichen Glückwunsch\, die Gutscheine für die Gewinne werden euch zugeschickt!
URL:https://www.spargelhof-klaistow.de/event/maislabyrinth-2-2/2025-10-31/
CATEGORIES:Featured Startseite
ATTACH;FMTTYPE=image/webp:https://www.spargelhof-klaistow.de/wp-content/uploads/2023/11/WordPress_teaserKachel-1-3.webp
END:VEVENT
BEGIN:VEVENT
DTSTART;TZID=Europe/Vienna:20251031T170000
DTEND;TZID=Europe/Vienna:20251031T173000
DTSTAMP:20260421T223255
CREATED:20251024T072318Z
LAST-MODIFIED:20251024T114531Z
UID:10006167-1761930000-1761931800@www.spargelhof-klaistow.de
SUMMARY:Feuershow zu Halloween
DESCRIPTION:Feuershow zu Halloween\nAm 31. Oktober von 17:00 bis 17:30 Uhr erwartet dich auf dem Spargel- & Erlebnishof Klaistow eine besondere Feuershow von Funkenflug Feuerkunst aus Berlin und Eberswalde. \n  \nUnter dem Motto „Ein Spiel mit Licht und Schatten“ zeigen die Künstler*innen eine stimmungsvolle Kombination aus Feuerjonglage\, Akrobatik und Musik – ein faszinierendes Erlebnis für Groß und Klein\, passend zur Halloween-Stimmung auf dem Hof. \n  \nFunkenflug Feuerkunst steht für die Verbindung von Akrobatik und Feuerspiel und schafft mit Leidenschaft und Präzision beeindruckende Bilder aus Flammen und Bewegung. \n  \nEine gruselige Hexe läuft von 12-14 Uhr und von 15-17 Uhr über den Hof! Lasst euch erschrecken und macht gruselige Bilder mit ihr. \n  \n🎃 Tipp: Vor oder nach der Show lohnt sich ein Bummel durch unsere Kürbisausstellung oder ein herbstlicher Snack auf dem Hof. \nÖffnungszeiten\nWann? \nAm Freitag\, den 31.10.2025
URL:https://www.spargelhof-klaistow.de/event/feuershow-zu-halloween/
CATEGORIES:Events,Kürbis
ATTACH;FMTTYPE=image/webp:https://www.spargelhof-klaistow.de/wp-content/uploads/2025/10/Halloween-Feuershow-Klaistow-2025.webp
END:VEVENT
BEGIN:VEVENT
DTSTART;TZID=Europe/Vienna:20251031T170000
DTEND;TZID=Europe/Vienna:20251031T210000
DTSTAMP:20260421T223255
CREATED:20250619T131908Z
LAST-MODIFIED:20250619T132306Z
UID:10005862-1761930000-1761944400@www.spargelhof-klaistow.de
SUMMARY:Enten- und Wildbuffet
DESCRIPTION:Enten- und Wildbuffet				\n				\n					\n		\n					\n		\n				\n						\n					\n			\n						\n				\n									Genießt gemeinsam mit der Familie\, Freunden\, zum Geburtstag oder zu zweit in kleiner Runde ein tolles Buffet mit vielen Leckereien von der Ente und Wild aus unseren Wäldern! Ihr findet auf dem Buffet alles\, was das Herz begehrt: Vorspeisen:  Kürbissuppe\, vegetarische Pasta\, Flammkuchen\, Salatbar und Holzofenbrot aus der Hofbäckerei\, Schmalz oder Butter Hauptspeisen: Entenkeulen- und Pfanne\, Wildgulasch\, Wildbraten vom Wildschwein oder Hirsch mit Beilagen wie hausgemachtem Rotkohl\, Speckbohnen\, Rosenkohl\, Kartoffelgratin\, Klöße oder Kartoffeln und Entensoße. Und zum Abschluss gibt’s natürlich leckere Desserts wie Schokopudding\, Apfel- und Heidelbeerstrudel oder Rote Grütze mit Vanillesoße.   Preis 2025: 34\,95€ für Erwachsene\, Kinder ermäßigt. 								\n				\n				\n				\n									\n					\n						\n									JETZT TISCH RESERVIEREN\n					\n					\n				\n								\n				\n					\n		\n				\n			\n						\n				\n					Teilen				\n				\n				\n				\n									\n					\n						\n					\n			\n						\n				\n							\n								\n						\n															\n															\n																				\n					\n									\n						\n															\n															\n																				\n					\n									\n						\n															\n															\n																				\n					\n									\n						\n															\n															\n																				\n					\n									\n						\n															\n															\n																				\n					\n						\n						\n				\n					\n		\n					\n		\n				\n		\n						\n				\n				\n				\n					Wann?				\n				\n				\n				\n									Vom 5.9. bis 8.11. jeden Donnerstag\, Freitag und Samstag jeweils von 17 bis 21 Uhr im Hofrestaurant.
URL:https://www.spargelhof-klaistow.de/event/enten-und-wildbuffet-2/2025-10-31/
CATEGORIES:Essen-Trinken
ATTACH;FMTTYPE=image/webp:https://www.spargelhof-klaistow.de/wp-content/uploads/2025/06/Enten-Wild-Buffet-2025.webp
END:VEVENT
END:VCALENDAR