BEGIN:VCALENDAR
VERSION:2.0
PRODID:-//Spargelhof Klaistow - ECPv6.15.11//NONSGML v1.0//EN
CALSCALE:GREGORIAN
METHOD:PUBLISH
X-WR-CALNAME:Spargelhof Klaistow
X-ORIGINAL-URL:https://www.spargelhof-klaistow.de
X-WR-CALDESC:Veranstaltungen für Spargelhof Klaistow
REFRESH-INTERVAL;VALUE=DURATION:PT1H
X-Robots-Tag:noindex
X-PUBLISHED-TTL:PT1H
BEGIN:VTIMEZONE
TZID:Europe/Vienna
BEGIN:DAYLIGHT
TZOFFSETFROM:+0100
TZOFFSETTO:+0200
TZNAME:CEST
DTSTART:20240331T010000
END:DAYLIGHT
BEGIN:STANDARD
TZOFFSETFROM:+0200
TZOFFSETTO:+0100
TZNAME:CET
DTSTART:20241027T010000
END:STANDARD
BEGIN:DAYLIGHT
TZOFFSETFROM:+0100
TZOFFSETTO:+0200
TZNAME:CEST
DTSTART:20250330T010000
END:DAYLIGHT
BEGIN:STANDARD
TZOFFSETFROM:+0200
TZOFFSETTO:+0100
TZNAME:CET
DTSTART:20251026T010000
END:STANDARD
BEGIN:DAYLIGHT
TZOFFSETFROM:+0100
TZOFFSETTO:+0200
TZNAME:CEST
DTSTART:20260329T010000
END:DAYLIGHT
BEGIN:STANDARD
TZOFFSETFROM:+0200
TZOFFSETTO:+0100
TZNAME:CET
DTSTART:20261025T010000
END:STANDARD
END:VTIMEZONE
BEGIN:VTIMEZONE
TZID:UTC
BEGIN:STANDARD
TZOFFSETFROM:+0000
TZOFFSETTO:+0000
TZNAME:UTC
DTSTART:20240101T000000
END:STANDARD
END:VTIMEZONE
BEGIN:VEVENT
DTSTART;TZID=Europe/Vienna:20251130T080000
DTEND;TZID=Europe/Vienna:20251130T103000
DTSTAMP:20260420T144305
CREATED:20250123T140233Z
LAST-MODIFIED:20250528T082830Z
UID:10005486-1764489600-1764498600@www.spargelhof-klaistow.de
SUMMARY:Frühstücksbuffet
DESCRIPTION:Frühstücksbuffet				\n				\n					\n		\n					\n		\n				\n						\n					\n			\n						\n				\n									Richtig gut frühstücken!Ab jetzt dürfen wir euch endlich wieder unser Frühstücksbuffet anbieten!   Was gibts?Frisches vom Landfleischer Joppe\,knusprige Brötchen und Holzofenbrot aus unserer Hofbäckerei\, frisch zubereitete Eierspeisen mit krossem Schinkenspeck\, unsere Klaistower Hof-Marmeladen aus eigenen Früchten\,Müsli und Joghurt mit Früchten und ein warmes Tagessüppchen.   Dazu gibts Mineralwasser\, Tee und frischen Filterkaffee.   								\n				\n				\n				\n									\n					\n						\n									JETZT RESERVIEREN\n					\n					\n				\n								\n				\n					\n		\n				\n			\n						\n				\n					Teilen				\n				\n				\n				\n									\n					\n						\n					\n			\n						\n				\n							\n								\n						\n															\n															\n																				\n					\n									\n						\n															\n															\n																				\n					\n									\n						\n															\n															\n																				\n					\n									\n						\n															\n															\n																				\n					\n									\n						\n															\n															\n																				\n					\n						\n						\n				\n					\n		\n					\n		\n				\n		\n						\n				\n				\n				\n					Wann?				\n				\n				\n				\n									Jeden Samstag\, Sonn- und Feiertag von 8:00-10:30 Uhr in der Scheunenküche.
URL:https://www.spargelhof-klaistow.de/event/fruehstuecksbuffet/2025-11-30/
CATEGORIES:Essen-Trinken
ATTACH;FMTTYPE=image/webp:https://www.spargelhof-klaistow.de/wp-content/uploads/2024/04/WordPress_teaserKachel-1.webp
END:VEVENT
BEGIN:VEVENT
DTSTART;TZID=Europe/Vienna:20251130T080000
DTEND;TZID=Europe/Vienna:20251130T160000
DTSTAMP:20260420T144305
CREATED:20250829T090237Z
LAST-MODIFIED:20251127T121701Z
UID:10006247-1764489600-1764518400@www.spargelhof-klaistow.de
SUMMARY:Klaistower Schlittenhunderennen
DESCRIPTION:Klaistower Schlittenhunderennen				\n				\n					\n		\n					\n		\n				\n						\n					\n			\n						\n				\n									Die Schlittenhunde kommen zurück nach Klaistow! Am 29. und 30.11.2025 richtet der Schlitten- und Zughundesportverein Hauptstadt Canicross e.V. auf dem Spargel- und Erlebnishof Klaistow das CAPITALCROSS 2025 aus. Start der großen Gespanne ist ab 8 Uhr und der erste Zieleinlauf wird gegen 15.30 Uhr erwartet.   Beim CAPITALCROSS 2025 werden zwei Wettbewerbe parallel ausgetragen: Ein Sprint-Qualifikationsrennen unter dem Dach des VDSV (Verband Deutscher Schlittenhundesport-Vereine) und ein Mitteldistanz-Rennen. Die Teams der Mitteldistanz gehen auf eine Strecke von ca. 17 Kilometern. In den Sprint-Disziplinen absolvieren die Sportlerinnen und Sportler mit einem Hund im Canicross\, Bikejöring oder Dogscooter eine etwa 5\,6 Kilometer lange Strecke; die Gespanne (ab Dogscooter mit 2 Hunden und Wagen ab 4 Hunden) legen im Sprint-Rennen rund 6\,8 Kilometer zurück.     Auf den schnellen Strecken erreichen die Teams beeindruckende Geschwindigkeiten von bis zu 45 km/h – ein atemberaubendes Erlebnis für alle\, die live dabei sind. Zuschauer:innen können die Starts und Zieleinläufe hautnah miterleben. Die Siegerehrung findet am Sonntag etwa eine Stunde nach dem letzten Zieleinlauf statt.    Der veranstaltende Verein Hauptstadt Canicross e.V. lädt Journalistinnen und Journalisten ein\, die Veranstaltung vor Ort zu begleiten. Interviewpartner:innen aus dem Sportlerfeld können gerne vermittelt werden. Eine kurze Anmeldung per E-Mail hilft bei der Organisation: info@hauptstadt-canicross.de    Mehr als 300 Starter aus fünf Nationen und über 600 Hunde stehen in den Startlöchern. Besucht uns und erlebt die Faszination des Zughundesports hautnah.    Neben den sportlichen Wettkämpfen und Verkaufsständen mit Hundezubehör\, erwartet euch ein weihnachtlich und stimmungsvoll beleuchteter Hof mit zahlreichen Aktivitäten für Groß und Klein. Unsere Riesen-Eisbahn sorgt für Winterspaß\, unser Hofladen und unsere Dekoscheune laden zum Weihnachtsshopping ein und unser Hofrestaurant lockt mit einer köstlichen Winter-Speisekarte und/oder unserem Gänse- und Entenbuffet an beiden Tagen von 17-21 Uhr.   Der Eintritt ist frei!   Wir freuen uns sehr auf euren Besuch!!!   ***********************   Unter diesen Links können die Ergebnisse live an den Wettkampftagen verfolgt werden:   CAPITALCROSS 2025 Klaistow – Mid-DistanceVDSV – CAPITALCROSS 2025 Klaistow    
URL:https://www.spargelhof-klaistow.de/event/klaistower-schlittenhunde-rennen/2025-11-30/
ATTACH;FMTTYPE=image/webp:https://www.spargelhof-klaistow.de/wp-content/uploads/2025/02/Capitalcross-Schlittenhunderennen.webp
END:VEVENT
BEGIN:VEVENT
DTSTART;TZID=UTC:20251130T100000
DTEND;TZID=UTC:20251130T130000
DTSTAMP:20260420T144305
CREATED:20251006T120407Z
LAST-MODIFIED:20251006T120705Z
UID:10003647-1764496800-1764507600@www.spargelhof-klaistow.de
SUMMARY:Adventsbrunch
DESCRIPTION:Adventsbrunch				\n				\n					\n		\n					\n		\n				\n						\n					\n			\n						\n				\n									Ihr findet auf dem Buffet alles\, was das Herz begehrt: von knusprigen Brötchen und Holzofenbrot aus unserer Hofbäckerei\, Leckerem vom Landfleischer Joppe bis hin zu unseren Klaistower Hof-Marmeladen aus eigenen Früchten und saisonalem Obst und Gemüse. Von der warmen Küche gibt‘s Auflauf oder Gratin\, Eierspeisen\, Geflügel\, Nudeln\, Ofengemüse und unseren ofenfrischen Hofbraten! Es gibt winterliche Spezialitäten wie Rot- und Grünkohl\, Ente sowie leckeren Wildbraten. Außerdem im Angebot: knackiger Salat und leckere Desserts.    Preis pro Person: Erw. 39\,95€\, Kinder (7-12 Jahre) 21\,95€\, Kinder (3-6 Jahre) 15\,95 €. Im Preis eingeschlossen sind frischer Filterkaffee\, aromatisiertes Wasser und Prosecco! Von 10-13 Uhr! 								\n				\n					\n		\n					\n		\n				\n						\n					\n			\n						\n				\n									\n					\n						\n									TICKETS BUCHEN
URL:https://www.spargelhof-klaistow.de/event/adventsbrunch-2/2025-11-30/
CATEGORIES:Essen-Trinken
ATTACH;FMTTYPE=image/webp:https://www.spargelhof-klaistow.de/wp-content/uploads/2024/09/Weihnachtsbrunch.webp
END:VEVENT
BEGIN:VEVENT
DTSTART;TZID=Europe/Vienna:20251130T100000
DTEND;TZID=Europe/Vienna:20251130T180000
DTSTAMP:20260420T144305
CREATED:20251117T120538Z
LAST-MODIFIED:20251219T104609Z
UID:10006287-1764496800-1764525600@www.spargelhof-klaistow.de
SUMMARY:Eislaufbahn
DESCRIPTION:Klaistow on Ice				\n				\n				\n				\n									600 m² überdachte Eislauffläche – wetterunabhängig & perfekt für jedes Alter 								\n				\n					\n		\n					\n		\n				\n						\n					\n			\n						\n				\n									\n					\n						\n									JETZT EISLAUFEN BUCHEN\n					\n					\n				\n								\n				\n					\n		\n					\n		\n				\n						\n					\n			\n						\n				\n									  🐧 Pinguine & Eisbuddys gratis – für Anfänger und Kids 👟 Schlittschuhe in allen Größen (24–47) – plus Doppel-Kufer für Kinder ⛸ 600 m² echte Eislaufbahn – groß\, überdacht & immer geöffnet 🎄 Winterliche Atmosphäre – mit Lichterglanz\, Glühwein & Snacks im Winterdorf 🎉 Events auf dem Eis – Eisdisko\, Familienaktionen & Gruppenangebote   Preise Eislaufen: • Pro Person: 5 € (bei Online-Buchung)\, vor Ort 6€ • Schlittschuhverleih: 5 € • Gruppenrabatt: ab 6 Personen ermäßigt • 10er-Karte Eislaufen: 40€ (Nur Online)   👉 Eigene Schlittschuhe kannst Du selbstverständlich mitbringen. 								\n				\n				\n				\n									\n					\n						\n									JETZT EISLAUFEN BUCHEN\n					\n					\n				\n								\n				\n					\n		\n				\n			\n						\n				\n					Öffnungszeiten				\n				\n				\n				\n									Di–Do: 14:30–19 Uhr Fr: 14:30–20 Uhr Sa: 10–20 Uhr So: 10–18 Uhr In den Ferien: 10–19:30 Uhr 25. + 26.12.: 11–15:30 Uhr 								\n				\n					\n		\n					\n		\n				\n						\n					\n			\n						\n				\n					Dein Eislauf-Erlebnis				\n				\n				\n				\n									Unsere Eislaufbahn ist das winterliche Highlight für Groß und Klein – hier kommt jeder auf seine Kosten: • Echte Eislaufbahn mit 600 m² Fläche – perfekt präpariert und komplett überdacht\, sodass Du wetterunabhängig Spaß haben kannst. • Für Anfänger & Kids: Mit unseren Pinguinen & Eisbuddys hast Du kostenlose Laufhilfen\, die Dir den Start auf dem Eis erleichtern. • Schlittschuhe für alle Größen: Von 24 bis 47 ist alles dabei. Für die Kleinsten (Größe 24–30) gibt es sogar Doppel-Kufer\, die für mehr Stabilität sorgen. • Stimmung & Vielfalt: Ob entspanntes Dahingleiten\, lustige Runden mit Freunden oder sportliche Tricks – auf unserer Bahn ist alles möglich. 								\n				\n					\n		\n				\n			\n						\n				\n																\n															\n															\n				\n					\n		\n					\n		\n				\n						\n					\n			\n						\n				\n									\n					\n						\n									JETZT EISLAUFEN BUCHEN\n					\n					\n				\n								\n				\n					\n		\n					\n		\n				\n						\n					\n			\n						\n				\n					Eisstockschießen				\n				\n				\n				\n									Gemeinsam mit Familie\, Freunden oder Kollegen – Eisstockschießen ist ein echtes Winter-Highlight und sorgt garantiert für Stimmung und gute Laune! • Für Familie\, Freunde oder Firmen – perfekt für gesellige Runden oder Teamevents • 2 Bahnen – parallel spielbar\, ideal auch für Gruppen • 99 € pro Bahn pro Stunde – unabhängig von der Gruppengröße\, bis zu 12 Personen • Echte- und Kunststoffeisbahn – wetterunabhängig und immer spielbar 								\n				\n					\n		\n				\n			\n						\n				\n																\n															\n															\n				\n					\n		\n					\n		\n				\n						\n					\n			\n						\n				\n									\n					\n						\n									EISSTOCKSCHIEßEN ANFRAGEN\n					\n					\n				\n								\n				\n					\n		\n					\n		\n				\n						\n					\n			\n						\n				\n					FAQ				\n				\n				\n				\n									Wie buche ich Tickets?Wähle auf der Seite Dein Datum und Zeitfenster\, gib die Ticketanzahl an und bezahle online. Du bekommst dein Ticket direkt per E-Mail.   Sind vor Ort noch Tickets erhältlich?Wenn Zeitfenster frei sind\, ja. Online sichern ist trotzdem besser – viele Slots sind schnell ausgebucht.   Gibt es Pausen zur Eisaufbereitung?Ja\, in regelmäßigen Abständen wird das Eis aufbereitet. Diese Zeit ist im Ablauf eingeplant.   Bekomme ich eine Rechnung?Ja\, die findest Du in Deiner Bestätigungsmail. Firmen/Gruppen können Rechnungsdetails beim Checkout angeben.   Kann ich Schlittschuhe ausleihen?Ja\, es gibt einen Verleih in vielen Größen (Kinder & Erwachsene). – buche den Verleih gleich mit.   Darf ich eigene Schlittschuhe mitbringen?Klar. Bitte achte auf scharfe Kufen und einen sicheren Zustand.   Habt Ihr Lernhilfen („Pinguine“/„Robben“)?Ja\, in begrenzter Anzahl. Diese stehen kostenfrei zur Verfügung.   Findet Eislaufen bei jedem Wetter statt?Ja! Unsere Eislaufbahn ist komplett überdacht und wetterunabhängig. Egal ob Regen oder Schneefall – bei uns kannst Du immer sicher aufs Eis.   Was soll ich anziehen?Zwiebellook: warme\, bequeme Kleidung\, Handschuhe\, dicke Socken. Eine Mütze/Helm schützt zusätzlich.   Kann ich für Gruppen/Firmen buchen?Ja! Für Schulklassen\, Vereine\, Firmen und Weihnachtsfeiern haben wir passende Zeitfenster und Angebote. 								\n				\n					\n		\n					\n		\n				\n						\n					\n			\n						\n				\n									\n					\n						\n									JETZT EISLAUFEN BUCHEN
URL:https://www.spargelhof-klaistow.de/event/eislaufbahn-4/2025-11-30/
CATEGORIES:Events,Featured Startseite,Weihnachtszeit
ATTACH;FMTTYPE=image/webp:https://www.spargelhof-klaistow.de/wp-content/uploads/2024/10/Schlittschuhlaufen.webp
END:VEVENT
END:VCALENDAR