BEGIN:VCALENDAR
VERSION:2.0
PRODID:-//Spargelhof Klaistow - ECPv6.15.11//NONSGML v1.0//EN
CALSCALE:GREGORIAN
METHOD:PUBLISH
X-WR-CALNAME:Spargelhof Klaistow
X-ORIGINAL-URL:https://www.spargelhof-klaistow.de
X-WR-CALDESC:Veranstaltungen für Spargelhof Klaistow
REFRESH-INTERVAL;VALUE=DURATION:PT1H
X-Robots-Tag:noindex
X-PUBLISHED-TTL:PT1H
BEGIN:VTIMEZONE
TZID:Europe/Vienna
BEGIN:DAYLIGHT
TZOFFSETFROM:+0100
TZOFFSETTO:+0200
TZNAME:CEST
DTSTART:20240331T010000
END:DAYLIGHT
BEGIN:STANDARD
TZOFFSETFROM:+0200
TZOFFSETTO:+0100
TZNAME:CET
DTSTART:20241027T010000
END:STANDARD
BEGIN:DAYLIGHT
TZOFFSETFROM:+0100
TZOFFSETTO:+0200
TZNAME:CEST
DTSTART:20250330T010000
END:DAYLIGHT
BEGIN:STANDARD
TZOFFSETFROM:+0200
TZOFFSETTO:+0100
TZNAME:CET
DTSTART:20251026T010000
END:STANDARD
BEGIN:DAYLIGHT
TZOFFSETFROM:+0100
TZOFFSETTO:+0200
TZNAME:CEST
DTSTART:20260329T010000
END:DAYLIGHT
BEGIN:STANDARD
TZOFFSETFROM:+0200
TZOFFSETTO:+0100
TZNAME:CET
DTSTART:20261025T010000
END:STANDARD
END:VTIMEZONE
BEGIN:VEVENT
DTSTART;TZID=Europe/Vienna:20250221T200000
DTEND;TZID=Europe/Vienna:20250221T230000
DTSTAMP:20260421T202857
CREATED:20241028T132534Z
LAST-MODIFIED:20250220T120335Z
UID:10003698-1740168000-1740178800@www.spargelhof-klaistow.de
SUMMARY:Herrensitzung
DESCRIPTION:Herrensitzung\nDer GCC veranstaltet seine Karnevals Sitzungen auf unserem Hof und lädt hiermit ein: \n  \nLiebe Männer\, feiert ausgelassen und stilvoll auf dem Klaistower Spargelhof – Der GCC Glindower Carneval Club e.V. präsentiert stolz seine 20. Herrensitzung! \nEs wird ein lustig frivoler\, speziell auf Männer zugeschnittener Abend mit einem Programm von 19:59 Uhr bis ca. 23:30 Uhr. Nach dem Einmarsch des Vereins eröffnet die Präsidentin des GCC die Sitzung\, die nur für Männer ist. \nDurch den Abend begleitet euch unsere alte Garde mit Spiel\, Animation und Spaß sowie unser Moderatoren-Duo. \nDie Vereinsband des GCC meldet sich mit Livemusik zu passenden Stimmungsliedern und Oldies. Die Prinzengarde besteht aus aktuell über 30 jungen Frauen und bieten einen ganz besonderen Tanz für diesen Abend.   Außerdem gibt es viel Frauenpower auf der Bühne aus befreundeten Vereinen. Nachdenkliches und viel mehr Lustiges in Wort und Gesang gibt es von unserem Gesangsduo\, der Büttenrednerin Jana und für Sketche\, Gesprochenes\, Gesungenes und Getanztes zeichnet sich die Präsis Crazy Garde verantwortlich. \nEs gibt einen Programmpunkt von einem extra für euch gebuchten Spezial-Gast und wie kann es anders sein – ein Überraschungsgast speziell für euch „Männer“. Ihr wisst sicher schon\, was sich dahinter oder besser gesagt „darunter“ verbirgt.Gemeinsam beenden wir den Abend mit Musik – live und aus der Konserve – chillen\, schunkeln und tanzen. \n  \nGanz wichtig: Einlass nur für Männer! Erlebt einen unvergesslichen Abend in bester Qualität und Atmosphäre auf dem Klaistower Spargelhof! \nÖffnungszeiten\nWann? \n21.02.2025 \nEinlass: 19:00 Uhr \nBeginn: 20:00 Uhr \nTickets\n		Tickets nur noch an der Abendkasse!		 \nTeilen\n		\n					\n						\n					\n			\n						\n				\n							\n								\n						\n															\n															\n																				\n					\n									\n						\n															\n															\n																				\n					\n									\n						\n															\n															\n																				\n					\n									\n						\n															\n															\n																				\n					\n									\n						\n															\n															\n																				\n					\n						\n						\n				\n					\n		\n					\n		\n				\n		\nFeiere Karneval mit uns!\n		Ansicht laden.\n		\n		\n		 \n\n\n\n\n	\n		\n	\n\n\n	\n		\n	\n\n\n\n	\n	Heute\n	\n		\n					Heute\n					Heute\n					\n					 –\n			\n					23.02.2025\n					23. Februar\n			\n				\n	\n	\n		Datum wählen.	\n	\n	\n		\n	\n	\n		\n	\n\n\n	\n		Februar 2025	\n\n	\n			\n									21. Februar 2025 – 21. Februar 2025\n					Herrensitzung\n						Herrensitzung Der GCC veranstaltet seine Karnevals Sitzungen auf unserem Hof und…\n	\n	\n			\n									22. Februar 2025 – 22. Februar 2025\n					1. Prunksitzung\n						1. Prunksitzung Der GCC veranstaltet seine Karnevals Sitzungen auf unserem Hof u…\n	\n	\n			\n									23. Februar 2025 – 23. Februar 2025\n					Seniorenfasching\n						Seniorenfasching Der GCC veranstaltet seine Karnevals Sitzungen auf unserem Hof …\n	 \n\n\n\n	\n		\n			Vorherige Veranstaltungen\n	\n\n\n	\n		Heute	\n\n\n	\n			Nächste Veranstaltungen\n		\n	\n\n\n\n			\n				Kalender abonnieren			\n			 \n\n\n	\n		Google Kalender	\n\n\n	\n		iCalendar	\n\n\n	\n		Outlook 365	\n\n\n	\n		Outlook Live	\n\n\n	\n		.ics-Datei exportieren	\n\n\n	\n		Exportiere Outlook .ics Datei	\n\n\n					\n									ZU ALLEN EVENTS
URL:https://www.spargelhof-klaistow.de/event/herrensitzung/
CATEGORIES:Karneval
ATTACH;FMTTYPE=image/webp:https://www.spargelhof-klaistow.de/wp-content/uploads/2024/10/GCC-Herrensitzung.webp
END:VEVENT
BEGIN:VEVENT
DTSTART;TZID=Europe/Vienna:20250222T200000
DTEND;TZID=Europe/Vienna:20250222T230000
DTSTAMP:20260421T202857
CREATED:20241028T134243Z
LAST-MODIFIED:20250220T120241Z
UID:10003699-1740254400-1740265200@www.spargelhof-klaistow.de
SUMMARY:1. Prunksitzung
DESCRIPTION:1. Prunksitzung\nDer GCC veranstaltet seine Karnevals Sitzungen auf unserem Hof und lädt hiermit ein: \n  \nJeck und Schwof mit dem GCC auf dem Klaistower Spargelhof! Dieses Jahr unter dem Motto: Zum 70. Des GCC laden wir ein\, bei unserer Gala auf dem roten Teppich dabei zu sein! \n  \nDie 1. Prunksitzung ist der erste festlich und unterhaltsame Höhepunkt der Karnevalssaison: ein Kostümball! Das Programm geht von 20:00 Uhr bis ca. 22:30 Uhr. Nach dem prunkvollen Einmarsch des Vereins\, der Begrüßung durch die Präsidentin und Ansprache der Prinzenpaare wird im festlichen Ambiente und unter dem Glanz funkelnder Kostüme gefeiert. Euch erwarten die Garde- und Schautänze der Kirschblüten\, der Früchtchen und der Prinzengarde\, die mit ihren Tänzen auf der diesjährigen Landesmeisterschaft wieder zahlreiche Titel holen konnten. Unser Tanzmariechen zeigt euch mit Stolz ihr Können. \n  \nStimmungsmusik und Oldies gibt es von unserer Vereinsband. Unser Gesangsduo verschafft sich mit Wort und Gesang Gehör\, die Prinzenomis überraschen euch mit ihrer Darbietung. Die PCG (Präsident crazy Garde) gibt Sketche\, Wortspiele und Tanzeinlagen zum Besten und das GCC Männerballett verzaubert dieses Jahr mit den Cherry Ladies an ihrer Seite. Das gemütliche Beisammensein für den Rest des Abends widmen wir der Brauchtumspflege und lassen uns\, beschwingt durch Musik\, schunkelnd und tänzerisch in den nächsten Tag überleiten. \nÖffnungszeiten\nWann? \n22.02.2025 \nEinlass: 19:00 Uhr \nBeginn: 20:00 Uhr \nTickets\n		Tickets nur noch an der Abendkasse!		 \nTeilen\n		\n					\n						\n					\n			\n						\n				\n							\n								\n						\n															\n															\n																				\n					\n									\n						\n															\n															\n																				\n					\n									\n						\n															\n															\n																				\n					\n									\n						\n															\n															\n																				\n					\n									\n						\n															\n															\n																				\n					\n						\n						\n				\n					\n		\n					\n		\n				\n		\nFeiere Karneval mit uns!\n		Ansicht laden.\n		\n		\n		 \n\n\n\n\n	\n		\n	\n\n\n	\n		\n	\n\n\n\n	\n	Heute\n	\n		\n					Heute\n					Heute\n					\n					 –\n			\n					23.02.2025\n					23. Februar\n			\n				\n	\n	\n		Datum wählen.	\n	\n	\n		\n	\n	\n		\n	\n\n\n	\n		Februar 2025	\n\n	\n			\n									21. Februar 2025 – 21. Februar 2025\n					Herrensitzung\n						Herrensitzung Der GCC veranstaltet seine Karnevals Sitzungen auf unserem Hof und…\n	\n	\n			\n									22. Februar 2025 – 22. Februar 2025\n					1. Prunksitzung\n						1. Prunksitzung Der GCC veranstaltet seine Karnevals Sitzungen auf unserem Hof u…\n	\n	\n			\n									23. Februar 2025 – 23. Februar 2025\n					Seniorenfasching\n						Seniorenfasching Der GCC veranstaltet seine Karnevals Sitzungen auf unserem Hof …\n	 \n\n\n\n	\n		\n			Vorherige Veranstaltungen\n	\n\n\n	\n		Heute	\n\n\n	\n			Nächste Veranstaltungen\n		\n	\n\n\n\n			\n				Kalender abonnieren			\n			 \n\n\n	\n		Google Kalender	\n\n\n	\n		iCalendar	\n\n\n	\n		Outlook 365	\n\n\n	\n		Outlook Live	\n\n\n	\n		.ics-Datei exportieren	\n\n\n	\n		Exportiere Outlook .ics Datei	\n\n\n					\n									ZU ALLEN EVENTS
URL:https://www.spargelhof-klaistow.de/event/1-prunksitzung/
CATEGORIES:Karneval
ATTACH;FMTTYPE=image/png:https://www.spargelhof-klaistow.de/wp-content/uploads/2024/10/GCC-ErstePrunksitzung.png
END:VEVENT
BEGIN:VEVENT
DTSTART;TZID=Europe/Vienna:20250223T150000
DTEND;TZID=Europe/Vienna:20250223T200000
DTSTAMP:20260421T202857
CREATED:20241028T135335Z
LAST-MODIFIED:20250220T120201Z
UID:10003700-1740322800-1740340800@www.spargelhof-klaistow.de
SUMMARY:Seniorenfasching
DESCRIPTION:Seniorenfasching\nDer GCC veranstaltet seine Karnevals Sitzungen auf unserem Hof und lädt hiermit ein: \n  \nJeck und Schwof mit dem GCC auf dem Klaistower Spargelhof! Dieses Jahr unter dem Motto: Zum 70. Des GCC laden wir ein\, bei unserer Gala auf dem roten Teppich dabei zu sein! \n  \nDie Karneval-Veranstaltung für alle jung Gebliebenen! Das Programm geht von 15:00 Uhr bis ca. 18:00 Uhr. Nach dem prunkvollen Einmarsch des Vereins\, der Begrüßung durch die Präsidentin und Ansprache der Prinzenpaare wird im festlichen Ambiente gefeiert. \nEuch erwarten schon die ganz kleinen Minis mit ihrem Kindertanz. Es präsentieren sich die Tänzerinnen der Garde- und Schautänze der Kirschblüten\, der Früchtchen und der Prinzengarde\, die mit ihren Tänzen auf der diesjährigen Landesmeisterschaft wieder zahlreiche Titel holen konnten. Unser Tanzmariechen zeigt euch mit Stolz ihr Können. Stimmungs- und Tanzmusik gibt es von unserer Vereinsband. \nUnser Gesangsduo verschafft sich mit Wort und Gesang Gehör. Die PCG (Präsident crazy Garde) gibt Sketche\, Wortspiele und Tanzeinlagen zum Besten das GCC Männerballett verzaubert dieses Jahr mit den Cherry Ladies an ihrer Seite. Abgerundet wird der fröhliche Nachmittag bis zum Ende der Veranstaltung\, indem wir gemeinsam nach stimmungsvoller Musik singend\, schunkelnd und tänzerisch in den Abend überleiten. \nÖffnungszeiten\nWann? \n23.02.2025 \nEinlass: 14:00 Uhr \nBeginn: 15:00 Uhr \nTickets\n		Tickets nur noch vor Ort!		 \nTeilen\n		\n					\n						\n					\n			\n						\n				\n							\n								\n						\n															\n															\n																				\n					\n									\n						\n															\n															\n																				\n					\n									\n						\n															\n															\n																				\n					\n									\n						\n															\n															\n																				\n					\n									\n						\n															\n															\n																				\n					\n						\n						\n				\n					\n		\n					\n		\n				\n		\nFeiere Karneval mit uns!\n		Ansicht laden.\n		\n		\n		 \n\n\n\n\n	\n		\n	\n\n\n	\n		\n	\n\n\n\n	\n	Heute\n	\n		\n					Heute\n					Heute\n					\n					 –\n			\n					23.02.2025\n					23. Februar\n			\n				\n	\n	\n		Datum wählen.	\n	\n	\n		\n	\n	\n		\n	\n\n\n	\n		Februar 2025	\n\n	\n			\n									21. Februar 2025 – 21. Februar 2025\n					Herrensitzung\n						Herrensitzung Der GCC veranstaltet seine Karnevals Sitzungen auf unserem Hof und…\n	\n	\n			\n									22. Februar 2025 – 22. Februar 2025\n					1. Prunksitzung\n						1. Prunksitzung Der GCC veranstaltet seine Karnevals Sitzungen auf unserem Hof u…\n	\n	\n			\n									23. Februar 2025 – 23. Februar 2025\n					Seniorenfasching\n						Seniorenfasching Der GCC veranstaltet seine Karnevals Sitzungen auf unserem Hof …\n	 \n\n\n\n	\n		\n			Vorherige Veranstaltungen\n	\n\n\n	\n		Heute	\n\n\n	\n			Nächste Veranstaltungen\n		\n	\n\n\n\n			\n				Kalender abonnieren			\n			 \n\n\n	\n		Google Kalender	\n\n\n	\n		iCalendar	\n\n\n	\n		Outlook 365	\n\n\n	\n		Outlook Live	\n\n\n	\n		.ics-Datei exportieren	\n\n\n	\n		Exportiere Outlook .ics Datei	\n\n\n					\n									ZU ALLEN EVENTS
URL:https://www.spargelhof-klaistow.de/event/seniorenfasching/
CATEGORIES:Karneval
ATTACH;FMTTYPE=image/webp:https://www.spargelhof-klaistow.de/wp-content/uploads/2024/10/GCC-Seniorenkarneval.webp
END:VEVENT
BEGIN:VEVENT
DTSTART;TZID=Europe/Vienna:20250227T200000
DTEND;TZID=Europe/Vienna:20250227T230000
DTSTAMP:20260421T202857
CREATED:20241028T140211Z
LAST-MODIFIED:20241122T112050Z
UID:10003701-1740686400-1740697200@www.spargelhof-klaistow.de
SUMMARY:1. Weiberfastnacht
DESCRIPTION:1. Weiberfastnacht\nDer GCC veranstaltet seine Karnevals Sitzungen auf unserem Hof und lädt hiermit ein: \n  \nJeck und Schwof auf dem Klaistower Spargelhof! Der GCC Glindower Carneval Club e.V. lädt euch zum 18. Mal zu seiner legendären Weiberfastnacht ein\, einem exklusiven Event nur für euch Frauen! \n  \nSeid bereit\, in eure besten Kostüme zu schlüpfen und euch in die ultimative Karnevalsstimmung zu versetzen? Dann kann es ja losgehen! Die extra für diesen Abend gebuchten Frauenversteher führen den Verein zu Euch in die Halle. Unser Moderatoren-Duo begleitet das lustig frivole\, auf Euch Frauen zugeschnittene\, Programm von 19:59 Uhr bis ca.: 23:30 Uhr. Nummernboys kündigen die Auftritte an. \n  \nUnser Gesangsduo verschafft sich mit Wort und Gesang Gehör\, die Prinzenomis überraschen euch mit ihrer Darbietung und die Prinzengarde gibt ihren Schautanz zum Besten\, der dieses Jahr wieder den Landesmeisterschaftstitel sichern konnte. Das GCC Männerballett verzaubert dieses Jahr mit den Cherry Ladies an ihrer Seite\, doch der zweite Tanz ist nur für euch Frauen. Außerdem gibt es viel Männerpower auf der Bühne aus befreundeten Vereinen. \nEs gibt einen Programmpunkt von einem extra für euch gebuchten Spezial-Gast und wie kann es anders sein – ein Überraschungsgast speziell für euch „Frauen“. Ihr wisst sicher schon\, was sich dahinter oder besser gesagt „darunter“ verbirgt. \nMit Stimmungsliedern und Oldies von unserer Vereinsband und aus der Konserve könnt ihr tanzend\, schunkelnd und beschwingt die Programmpausen überbrücken und auch bis in den nächsten Tag hinein feiern. \n  \nGanz wichtig: Einlass nur für Frauen! Erlebt einen unvergesslichen Abend in bester Qualität und Atmosphäre auf dem Klaistower Spargelhof! \nÖffnungszeiten\nWann? \n27.02.2025 \nEinlass: 19:00 Uhr \nBeginn: 20:00 Uhr \nTickets\n\n	\n\n		\n		\n		\n\n		\n\n\n		\n\n\n\n	Tickets\n\n		\n	\n	\n		Die unten stehende Nummer beinhaltet Tickets für diese Veranstaltung aus dem Warenkorb. Durch einen Klick auf "Tickets kaufen" können vorhandene Teilnehmerinformationen bearbeitet sowie die Ticketsanzahl verändert werden.	\n\n\n		\n		\n		\n	\n		Tickets sind nicht länger verfügbar	\n\n\n		\n	\n	\n\n	\n	\n\n	\n	\n\n\n\n			\n\n	\n\n\n\nTeilen\n		\n					\n						\n					\n			\n						\n				\n							\n								\n						\n															\n															\n																				\n					\n									\n						\n															\n															\n																				\n					\n									\n						\n															\n															\n																				\n					\n									\n						\n															\n															\n																				\n					\n									\n						\n															\n															\n																				\n					\n						\n						\n				\n					\n		\n					\n		\n				\n		\nFeiere Karneval mit uns!\n		Ansicht laden.\n		\n		\n		 \n\n\n\n\n	\n		\n	\n\n\n	\n		\n	\n\n\n\n	\n	Heute\n	\n		\n					Heute\n					Heute\n					\n					 –\n			\n					23.02.2025\n					23. Februar 2025\n			\n				\n	\n	\n		Datum wählen.	\n	\n	\n		\n	\n	\n		\n	\n\n\n	\n		Februar 2025	\n\n	\n			\n									21. Februar 2025 – 21. Februar 2025\n					Herrensitzung\n						Herrensitzung Der GCC veranstaltet seine Karnevals Sitzungen auf unserem Hof und…\n	\n	\n			\n									22. Februar 2025 – 22. Februar 2025\n					1. Prunksitzung\n						1. Prunksitzung Der GCC veranstaltet seine Karnevals Sitzungen auf unserem Hof u…\n	\n	\n			\n									23. Februar 2025 – 23. Februar 2025\n					Seniorenfasching\n						Seniorenfasching Der GCC veranstaltet seine Karnevals Sitzungen auf unserem Hof …\n	 \n\n\n\n	\n		\n			Vorherige Veranstaltungen\n	\n\n\n	\n		Heute	\n\n\n	\n			Nächste Veranstaltungen\n		\n	\n\n\n\n			\n				Kalender abonnieren			\n			 \n\n\n	\n		Google Kalender	\n\n\n	\n		iCalendar	\n\n\n	\n		Outlook 365	\n\n\n	\n		Outlook Live	\n\n\n	\n		.ics-Datei exportieren	\n\n\n	\n		Exportiere Outlook .ics Datei	\n\n\n					\n									ZU ALLEN EVENTS
URL:https://www.spargelhof-klaistow.de/event/1-weiberfastnacht/
CATEGORIES:Karneval
ATTACH;FMTTYPE=image/webp:https://www.spargelhof-klaistow.de/wp-content/uploads/2024/10/GCC-ErsteWeiberfastnacht.webp
END:VEVENT
BEGIN:VEVENT
DTSTART;TZID=Europe/Vienna:20250228T200000
DTEND;TZID=Europe/Vienna:20250228T230000
DTSTAMP:20260421T202857
CREATED:20241028T141020Z
LAST-MODIFIED:20250127T101205Z
UID:10003702-1740772800-1740783600@www.spargelhof-klaistow.de
SUMMARY:2. Weiberfastnacht
DESCRIPTION:2. Weiberfastnacht\nDer GCC veranstaltet seine Karnevals Sitzungen auf unserem Hof und lädt hiermit ein: \nJeck und Schwof auf dem Klaistower Spargelhof! Der GCC Glindower Carneval Club e.V. lädt euch zum 18. Mal zu seiner legendären Weiberfastnacht ein\, einem exklusiven Event nur für euch Frauen! \nSeid bereit\, in eure besten Kostüme zu schlüpfen und euch in die ultimative Karnevalsstimmung zu versetzen? Dann kann es ja losgehen! Die extra für diesen Abend gebuchten Frauenversteher führen den Verein zu Euch in die Halle. Unser Moderatoren-Duo begleitet das lustig frivole\, auf Euch Frauen zugeschnittene\, Programm von 19:59 Uhr bis ca.: 23:30 Uhr. Nummernboys kündigen die Auftritte an. \nUnser Gesangsduo verschafft sich mit Wort und Gesang Gehör\, die Prinzenomis überraschen euch mit ihrer Darbietung und die Prinzengarde gibt ihren Schautanz zum Besten\, der dieses Jahr wieder den Landesmeisterschaftstitel sichern konnte. Das GCC Männerballett verzaubert dieses Jahr mit den Cherry Ladies an ihrer Seite\, doch der zweite Tanz ist nur für euch Frauen. Außerdem gibt es viel Männerpower auf der Bühne aus befreundeten Vereinen und an diesem Abend auch die Männer aus Finsterwalde\, die auf der Deutschen Meisterschaft im Männerballett sich den zweiten Platz sichern konnten. \nEs gibt einen Programmpunkt von einem extra für euch gebuchten Spezial-Gast und wie kann es anders sein – ein Überraschungsgast speziell für euch „Frauen“. Ihr wisst sicher schon\, was sich dahinter oder besser gesagt „darunter“ verbirgt. \nMit Stimmungsliedern und Oldies von unserer Vereinsband und aus der Konserve könnt ihr tanzend\, schunkelnd und beschwingt die Programmpausen überbrücken und auch bis in den nächsten Tag hinein feiern. \nGanz wichtig: Einlass nur für Frauen! Erlebt einen unvergesslichen Abend in bester Qualität und Atmosphäre auf dem Klaistower Spargelhof! \nÖffnungszeiten\nWann? \n28.02.2025 \nEinlass: 19:00 Uhr \nBeginn: 20:00 Uhr \nTickets\n\n	\n\n		\n		\n		\n\n		\n\n\n		\n\n\n\n	Tickets\n\n		\n	\n	\n		Die unten stehende Nummer beinhaltet Tickets für diese Veranstaltung aus dem Warenkorb. Durch einen Klick auf "Tickets kaufen" können vorhandene Teilnehmerinformationen bearbeitet sowie die Ticketsanzahl verändert werden.	\n\n\n		\n		\n		\n	\n		Tickets sind nicht länger verfügbar	\n\n\n		\n	\n	\n\n	\n	\n\n	\n	\n\n\n\n			\n\n	\n\n\n\nTeilen\n		\n					\n						\n					\n			\n						\n				\n							\n								\n						\n															\n															\n																				\n					\n									\n						\n															\n															\n																				\n					\n									\n						\n															\n															\n																				\n					\n									\n						\n															\n															\n																				\n					\n									\n						\n															\n															\n																				\n					\n						\n						\n				\n					\n		\n					\n		\n				\n		\nFeiere Karneval mit uns!\nAnsicht laden. \n\n\n\n\n\n\n\n\n\n\nHeute\n\n\nHeute\nHeute\n\n–\n\n23.02.2025\n23. Februar 2025\n \n\n\nDatum wählen. \n \n\n\nFebruar 2025 \n\n\n21. Februar 2025 – 21. Februar 2025\nHerrensitzung\nHerrensitzung Der GCC veranstaltet seine Karnevals Sitzungen auf unserem Hof und…\n\n\n\n22. Februar 2025 – 22. Februar 2025\n1. Prunksitzung\n1. Prunksitzung Der GCC veranstaltet seine Karnevals Sitzungen auf unserem Hof u…\n\n\n\n23. Februar 2025 – 23. Februar 2025\nSeniorenfasching\nSeniorenfasching Der GCC veranstaltet seine Karnevals Sitzungen auf unserem Hof …\n \n\n\n\nVorherige Veranstaltungen\n\n\nHeute \n\nNächste Veranstaltungen \n\n\n\n\nKalender abonnieren  \n\n\nGoogle Kalender \n\niCalendar \n\nOutlook 365 \n\nOutlook Live \n\n.ics-Datei exportieren \n\nExportiere Outlook .ics Datei \n\n\nZU ALLEN EVENTS
URL:https://www.spargelhof-klaistow.de/event/2-weiberfastnacht/
CATEGORIES:Karneval
ATTACH;FMTTYPE=image/webp:https://www.spargelhof-klaistow.de/wp-content/uploads/2024/10/GCC-ZweiteWeiberfastnacht.webp
END:VEVENT
END:VCALENDAR